BEGIN:VCALENDAR
VERSION:2.0
PRODID:-//Halle 424 - ECPv5.1.6//NONSGML v1.0//EN
CALSCALE:GREGORIAN
METHOD:PUBLISH
X-WR-CALNAME:Halle 424
X-ORIGINAL-URL:https://halle424.de
X-WR-CALDESC:Veranstaltungen für Halle 424
BEGIN:VTIMEZONE
TZID:Europe/Berlin
BEGIN:DAYLIGHT
TZOFFSETFROM:+0100
TZOFFSETTO:+0200
TZNAME:CEST
DTSTART:20230326T010000
END:DAYLIGHT
BEGIN:STANDARD
TZOFFSETFROM:+0200
TZOFFSETTO:+0100
TZNAME:CET
DTSTART:20231029T010000
END:STANDARD
END:VTIMEZONE
BEGIN:VEVENT
DTSTART;TZID=Europe/Berlin:20231024T200000
DTEND;TZID=Europe/Berlin:20231024T220000
DTSTAMP:20260422T052133
CREATED:20230921T091338Z
LAST-MODIFIED:20230921T091516Z
UID:5845-1698177600-1698184800@halle424.de
SUMMARY:Gerald Clayton Trio (US)
DESCRIPTION:https://www.youtube.com/watch?v=SfMDMc7MB0Q \nIn dem Faszinierendes Interview mit Gerald Clayton im NPR (National Public Radio) sprechen Clayton und Lara Downes auch über den Effekt\, den unterschiedliche Venues auf die Beziehung zwischen Künstlern und Publikum haben können. Zuletzt war Gerald Clayton in der kleinen Laeiszhalle zu hören\, und jetzt bei uns! Mal sehen\, ob der eine oder andere\, der das Trio (mit Greg Hutchinson) dort gehört hat\, auch noch einmal den Weg zu uns findet\, um genau dieses zu erleben.\n \nGerald Clayton (piano) \nJoe Sanders (bass) \nJeff Ballard (drums) \nDie ‚Magie des Moments‘ ist für Gerald  Clayton\, Sohn des Bassisten und Big-Band-Arrangeurs John Clayton und einer niederländischen Konzert-Pianistin\, eine der inspirierenden Kräfte\, die ihn motivieren\, ob er solo auftritt oder wie hier im Trio. Er wurde 1984 in Utrecht geboren und ist in Kalifornien aufgewachsen. Nach vielen Jahren auf der Weltbühne\, u.a. war er schon mit seinem Mentor Charles Lloyd in der Elphi zu hören\, und der Exploration vieler verschiedener Genres\, kehrt er zunehmend zu seinen Wurzeln zurück\, die v.a. auch im Blues zu suchen sind\, dem er mit ‚Piedmont Blues‘ ein eigenes Projekt gewidmet hat. Es geht ihm um Ehrlichkeit und Authentizität im Ausdruck bei jeder Note\, die er spielt. Der Pianist ist außerdem eng mit dem Monterey Jazz Festival verbunden\, wo er seit 2016 als Musical Director des gleichnamigen Tour-Projekts fungiert\, in Begleitung u.a. von Ravi Coltrane\, Terence Blanchard\, Raul Midon und Nicholas Payton. \nClayton wurde mit verschiedenen Projekten insgesamt 6 mal für den Grammy nominiert\, seit einigen Jahren ist er bei dem berühmten Label ‚Blue Note‘ unter Vertrag\, wo er auch sein letztes Album ‚Bells on Sand‘ veröffentlicht hat. „Clayton is one of the most accomplished\, distinctive and innovative pianists performing today“ says Blue Note President Don Was.  \nWir wollten Gerald Clayton schon lange als Solistien einladen. Jetzt kommt gleich das ganze Trio\, mit dem gleichaltrigen Joe Sanders am Bass und Jeff Ballard am Schlagzeug\, eine absolute Star-Besetzung.  Jeff Ballard is 20 Jahre älter als die Kollegen und hatte das Glück\, schon in den 1990er Jahren in die New Yorker Jazzszene einzutauchen\, wo er auf Zeitgenossen wie Kurt Rosenwinkel\, Mark Turner\, Joshua Redman und Brad Mehldau traf\, mit denen er nach wie vor zusammenarbeitet. \nwww.geraldclayton.com \nFoto (c) Devin DeHaven \n  \n  \n  \n 
URL:https://halle424.de/veranstaltung/5845/
LOCATION:Halle 424\, Stockmeyerstr. 43\, Hamburg\, 20457\, Deutschland
CATEGORIES:Jazz Tracks424
ORGANIZER;CN="Halle424-Verein%20zur%20F%C3%B6rderung%20von%20Musik%20%20und%20Kultur%20im%20Oberhafen%20e.V.":MAILTO:halle424.ek@t-online.de
GEO:53.5424701;10.0088123
X-APPLE-STRUCTURED-LOCATION;VALUE=URI;X-ADDRESS=Halle 424 Stockmeyerstr. 43 Hamburg 20457 Deutschland;X-APPLE-RADIUS=500;X-TITLE=Stockmeyerstr. 43:geo:10.0088123,53.5424701
END:VEVENT
END:VCALENDAR