BEGIN:VCALENDAR
VERSION:2.0
PRODID:-//Halle 424 - ECPv5.1.6//NONSGML v1.0//EN
CALSCALE:GREGORIAN
METHOD:PUBLISH
X-WR-CALNAME:Halle 424
X-ORIGINAL-URL:https://halle424.de
X-WR-CALDESC:Veranstaltungen für Halle 424
BEGIN:VTIMEZONE
TZID:Europe/Berlin
BEGIN:DAYLIGHT
TZOFFSETFROM:+0100
TZOFFSETTO:+0200
TZNAME:CEST
DTSTART:20240331T010000
END:DAYLIGHT
BEGIN:STANDARD
TZOFFSETFROM:+0200
TZOFFSETTO:+0100
TZNAME:CET
DTSTART:20241027T010000
END:STANDARD
END:VTIMEZONE
BEGIN:VEVENT
DTSTART;TZID=Europe/Berlin:20240413T200000
DTEND;TZID=Europe/Berlin:20240413T230000
DTSTAMP:20260425T141053
CREATED:20240122T115943Z
LAST-MODIFIED:20240405T073219Z
UID:6050-1713038400-1713049200@halle424.de
SUMMARY:COMFORTABLY NUMB- the next waltz
DESCRIPTION:Nach dem erfolgreichen Konzert 2022\nkommt die Hamburger Band Comfortably\nNumb wieder in die Halle 424.\nDie Band ist eine ungewöhnliche Melange\naus Profis und ambitionierten\nAmateurmusikern. Mit neuen frischen\nSongversionen\, neuer Band-Besetzung und\ngrosser Vorfreude.\nEs werden persönliche Songlieblinge\ngecovert\, im Einzelnen eher spezielle Songs\nin spezifischen Interpretationen\, in Summe\nein charaktervoller Titel-Mix. Die\nSongvorlagen sind anspruchsvoll und\nmitreißend. Dazu Songs des Singer-\nSongwriters John Allen\, dem neuen\nFrontmann.\nZiel des Abends ist die gemeinsame Freude\nan Musik und Performance auf beiden\nSeiten: dem Publikum und der Band incl.\nAfter-Show-Party. Es wird spät werden!\nBesetzung: \nHenrike Moss\, John Allen\, Roald Lingbeek\, Timm Schlotfeld\, Holger Jung\, Andi Mezler\, Malte Kloepper \n \nArtwork: Timm Schlotfeld
URL:https://halle424.de/veranstaltung/comfortably-numb-the-next-waltz/
LOCATION:Halle 424\, Stockmeyerstr. 43\, Hamburg\, 20457\, Deutschland
CATEGORIES:Rockkonzert
ORGANIZER;CN="Now%20Here%20Nina%20Homan":MAILTO:mailto:magdalena.reusch@t-online.de
GEO:53.5424701;10.0088123
X-APPLE-STRUCTURED-LOCATION;VALUE=URI;X-ADDRESS=Halle 424 Stockmeyerstr. 43 Hamburg 20457 Deutschland;X-APPLE-RADIUS=500;X-TITLE=Stockmeyerstr. 43:geo:10.0088123,53.5424701
END:VEVENT
END:VCALENDAR