BEGIN:VCALENDAR
VERSION:2.0
PRODID:-//Halle 424 - ECPv5.1.6//NONSGML v1.0//EN
CALSCALE:GREGORIAN
METHOD:PUBLISH
X-WR-CALNAME:Halle 424
X-ORIGINAL-URL:https://halle424.de
X-WR-CALDESC:Veranstaltungen für Halle 424
BEGIN:VTIMEZONE
TZID:Europe/Berlin
BEGIN:DAYLIGHT
TZOFFSETFROM:+0100
TZOFFSETTO:+0200
TZNAME:CEST
DTSTART:20230326T010000
END:DAYLIGHT
BEGIN:STANDARD
TZOFFSETFROM:+0200
TZOFFSETTO:+0100
TZNAME:CET
DTSTART:20231029T010000
END:STANDARD
END:VTIMEZONE
BEGIN:VEVENT
DTSTART;TZID=Europe/Berlin:20230928T200000
DTEND;TZID=Europe/Berlin:20230928T220000
DTSTAMP:20260422T093100
CREATED:20230714T130032Z
LAST-MODIFIED:20230717T084150Z
UID:5803-1695931200-1695938400@halle424.de
SUMMARY:Émile Parisien & Roberto Negro - LES MÉTANUITS
DESCRIPTION:https://www.youtube.com/watch?v=pcVatUB6EnY&t=650s \nÉmile Parisien (saxophone) \nRoberto Negro (piano) \nLes Métanuits  \nDuo-Improvisationen inspiriert von György Ligetis Streichquartett Nr. 1 ‚Métamorphoses nocturnes‘ \nAm 28. Mai 2023 wäre der Komponist György Ligeti 100 Jahre alt geworden. Auch wenn ihn Stanley Kubrick durch die Verwendung seiner Musik im Soundtrack für ‚2001 Odyssee im Weltraum‘ bekannt gemacht hat\, ist der Kosmopolit der Neuen Musik kein Publikumsfavorit geworden. Umso mehr Eindruck hat Ligeti bei vielen Musikern hinterlassen\, so auch bei dem herausragenden französischen Saxophonisten Émile Parisien und dem Italiener Roberto Negro\, den viele für einen der aktuell spannendsten Pianisten Europas halten. Als sich herausstellte\, dass Ligetis Streichquartett Nr. 1 beider Lieblingskomposition des Ungarn ist\, war die Idee für das Duo-Projekt geboren. Die Aufnahmen sind im Mai 2023 bei ACT erschienen. \n„Das Streichquartett ist eine reichhaltige Inspirationsquelle für unsere Improvisationen“ erklärt Parisien. „Als eines seiner frühen Werke (…) ist es noch stark von Béla Bartok beeinflusst. Deshalb auch dieses starke\, bewegende Gerneralthema\, dass sich duch das ganze Stück zieht“. Besonders die Rhythmik des Stücks\, die fast schon an Strawinski erinnert\, begeisterte Parisien und Negro seit jeher. Sie verleiht ihrer in elf Teile gegliederten Adaption nun die entscheidende Struktur. \nHochvirtuos\, alle klanglichen Möglichkeiten ihrer Instrumente nutzend\, oft in irrwitzigem Temp\, dann wieder mit lyrischem Atem jagen die beiden durch sich ständig änderne Umrahmungen des Themas. „Die Überschneidungen zwischen klassischer Musik und Jazz liegen mir besonders am Herzen. Die Grenzen zwischen diesen Genres müssen nicht mehr bestehen“\, befindet Roberto Negro. So halten sich die Musiker nicht mit historisierenden Konventionen einer alten abstrakten Avantgarde auf\, sondern lassen betörend aktuelle\, mitreißend konkrete Musik erklingen. \n(Textauszug aus ACT Pressetext) \nFoto: Jean-Pascal Retel \n  \n 
URL:https://halle424.de/veranstaltung/emile-parisien-roberto-negro-les-metanuits/
LOCATION:Halle 424\, Stockmeyerstr. 43\, Hamburg\, 20457\, Deutschland
CATEGORIES:Jazz Tracks424
ORGANIZER;CN="Halle424-Verein%20zur%20F%C3%B6rderung%20von%20Musik%20%20und%20Kultur%20im%20Oberhafen%20e.V.":MAILTO:halle424.ek@t-online.de
GEO:53.5424701;10.0088123
X-APPLE-STRUCTURED-LOCATION;VALUE=URI;X-ADDRESS=Halle 424 Stockmeyerstr. 43 Hamburg 20457 Deutschland;X-APPLE-RADIUS=500;X-TITLE=Stockmeyerstr. 43:geo:10.0088123,53.5424701
END:VEVENT
END:VCALENDAR