BEGIN:VCALENDAR
VERSION:2.0
PRODID:-//Halle 424 - ECPv5.1.6//NONSGML v1.0//EN
CALSCALE:GREGORIAN
METHOD:PUBLISH
X-WR-CALNAME:Halle 424
X-ORIGINAL-URL:https://halle424.de
X-WR-CALDESC:Veranstaltungen für Halle 424
BEGIN:VTIMEZONE
TZID:Europe/Berlin
BEGIN:DAYLIGHT
TZOFFSETFROM:+0100
TZOFFSETTO:+0200
TZNAME:CEST
DTSTART:20230326T010000
END:DAYLIGHT
BEGIN:STANDARD
TZOFFSETFROM:+0200
TZOFFSETTO:+0100
TZNAME:CET
DTSTART:20231029T010000
END:STANDARD
END:VTIMEZONE
BEGIN:VEVENT
DTSTART;TZID=Europe/Berlin:20231220T180000
DTEND;TZID=Europe/Berlin:20231220T190000
DTSTAMP:20260421T082420
CREATED:20231207T063418Z
LAST-MODIFIED:20231207T063419Z
UID:5983-1703095200-1703098800@halle424.de
SUMMARY:Feierabendkonzert in der Halle424
DESCRIPTION:Weihnachten\, wie es sein soll und möglichst immer gewesen sein wird – comme il faut! Im Feierabendkonzert feiern wir fröhlich\, besinnlich\, musikalisch und ein klein bisschen literarisch gemeinsam die Adventszeit und das kommende Weihnachtsfest. Das Programm ist noch eine Überraschung\, deswegen der rote Vorhang im Bild! \n  \nFoto: Kammerkunstverein
URL:https://halle424.de/veranstaltung/feierabendkonzert-in-der-halle424-2/
LOCATION:Halle 424\, Stockmeyerstr. 43\, Hamburg\, 20457\, Deutschland
CATEGORIES:Feierabendkonzert
ORGANIZER;CN="Hamburger%20Kammerkunstverein":MAILTO:tickets@kammerkunst.de
GEO:53.5424701;10.0088123
X-APPLE-STRUCTURED-LOCATION;VALUE=URI;X-ADDRESS=Halle 424 Stockmeyerstr. 43 Hamburg 20457 Deutschland;X-APPLE-RADIUS=500;X-TITLE=Stockmeyerstr. 43:geo:10.0088123,53.5424701
END:VEVENT
END:VCALENDAR