BEGIN:VCALENDAR
VERSION:2.0
PRODID:-//Halle 424 - ECPv5.1.6//NONSGML v1.0//EN
CALSCALE:GREGORIAN
METHOD:PUBLISH
X-WR-CALNAME:Halle 424
X-ORIGINAL-URL:https://halle424.de
X-WR-CALDESC:Veranstaltungen für Halle 424
BEGIN:VTIMEZONE
TZID:Europe/Berlin
BEGIN:DAYLIGHT
TZOFFSETFROM:+0100
TZOFFSETTO:+0200
TZNAME:CEST
DTSTART:20240331T010000
END:DAYLIGHT
BEGIN:STANDARD
TZOFFSETFROM:+0200
TZOFFSETTO:+0100
TZNAME:CET
DTSTART:20241027T010000
END:STANDARD
END:VTIMEZONE
BEGIN:VEVENT
DTSTART;TZID=Europe/Berlin:20240117T180000
DTEND;TZID=Europe/Berlin:20240117T190000
DTSTAMP:20260421T083318
CREATED:20231231T143946Z
LAST-MODIFIED:20231231T162635Z
UID:6033-1705514400-1705518000@halle424.de
SUMMARY:Feierabendkonzert in der Halle424
DESCRIPTION:Eröffnungskonzert Jubiläumsjahr 25 Jahre Kammerkunst\nJS Bach\, Präludium und Fuge es-moll WTK I BWV 853\nWA Mozart\, Sonate F-Dur KV 332\nFranz Liszt\, Ballade Nr. 2 h-moll \nUnser Jahresthema 2024: ZEIT \nThommy Link eröffnet unser Jubiläumsjahr mit einem Solo-Rezital\, bei dem die Musik als Zeitmesser fungiert. Zeit ist etwas\, das wir nicht spüren. Erst\, wenn wir etwas tun\, das Zeit hat\, merken wir überhaupt\, dass es so etwas wie Zeit gibt. Die Musik ist eine wunderschöne Möglichkeit\, in diese Erlebnisdimension eintauchen zu können. \n\nFranck-Thomas Link\, Klavier\n\n\n\nTickets: 18 € im Online-Vorverkauf\, 23 € an der Abendkasse\, Mitglieder: 9 € \nWir freuen uns\, Ensemble in Residence in der Halle 424 zu sein. \n\nFoto: Halle424 \n\n 
URL:https://halle424.de/veranstaltung/feierabendkonzert-in-der-halle424-3/
LOCATION:Halle 424\, Stockmeyerstr. 43\, Hamburg\, 20457\, Deutschland
CATEGORIES:Feierabendkonzert
ORGANIZER;CN="Hamburger%20Kammerkunstverein":MAILTO:tickets@kammerkunst.de
GEO:53.5424701;10.0088123
X-APPLE-STRUCTURED-LOCATION;VALUE=URI;X-ADDRESS=Halle 424 Stockmeyerstr. 43 Hamburg 20457 Deutschland;X-APPLE-RADIUS=500;X-TITLE=Stockmeyerstr. 43:geo:10.0088123,53.5424701
END:VEVENT
END:VCALENDAR