BEGIN:VCALENDAR
VERSION:2.0
PRODID:-//Halle 424 - ECPv5.1.6//NONSGML v1.0//EN
CALSCALE:GREGORIAN
METHOD:PUBLISH
X-WR-CALNAME:Halle 424
X-ORIGINAL-URL:https://halle424.de
X-WR-CALDESC:Veranstaltungen für Halle 424
BEGIN:VTIMEZONE
TZID:Europe/Berlin
BEGIN:DAYLIGHT
TZOFFSETFROM:+0100
TZOFFSETTO:+0200
TZNAME:CEST
DTSTART:20240331T010000
END:DAYLIGHT
BEGIN:STANDARD
TZOFFSETFROM:+0200
TZOFFSETTO:+0100
TZNAME:CET
DTSTART:20241027T010000
END:STANDARD
END:VTIMEZONE
BEGIN:VEVENT
DTSTART;TZID=Europe/Berlin:20240529T180000
DTEND;TZID=Europe/Berlin:20240529T200000
DTSTAMP:20260419T184808
CREATED:20240520T172012Z
LAST-MODIFIED:20240520T172013Z
UID:6234-1717005600-1717012800@halle424.de
SUMMARY:Geburtstagskonzert- in der 424
DESCRIPTION:2 Geburtstage: 25 Jahre Kammerkunst – 60 Jahre Thommy \nZum diesjährigen Jubiläumsjahr „25 Jahre Kammerkunst“ gesellt sich im Mai der 60. Geburtstag des Mitgründers\, Pianisten und künstlerischen Leiters Franck-Thomas Link. Möge dieses kreative Zusammenwirken noch langeweitergehen! Zu seinem Geburtstag möchte Thommy mit Ihnen / Euch anstoßen und lädt auf einen kleinen Umtrunk nach dem Feierabendkonzert am 29. Mai ein! \nMit von der Partie sind musikalisch die Altistin Jale Papila und Bratschistin Alla Rutter. Und sicher wird Schauspieler Ulrich Bildstein auf dem Podium etwas zu sagen haben! \nPjotr Ilijtsch Tschaikowsky\nGlaub nicht\, mein Lieb (Lew Nikolajewitsch Tolstoi ) op. 6 Nr.1\nSo bald vergessen (Alekey Nikolayevich Apukhtin) keine Opuszahl\, erschienen: 1870 \nAlexander Konstantinowitsch Glasunow\nElegie für Viola und Klavier op. 44 \nJohannes Brahms\nZwei geistlich Wiegenlieder für Alt\, Viola und Klavier op. 91\nNr. 1 Gestillte Sehnsucht (Friedrich Rückert)\nNr. 2 Geistliches Wiegenlied (Lope de Vaga / Emanuel Geibel) \nSergej Rachmaninow\nVocalise für Viola und Klavier op.34 Nr. 14 \nPjotr Ilijtsch Tschaikowsky\nLied der Mignon: Nur wer die Sehnsucht kennt (Johann Wofgang von Goethe) op. 6 Nr. 6\nStändchen des Don Juan (Lew Nikolajewitsch Tolstoi ) op. 38 Nr. 1 \n\nFranck-Thomas Link\, Klavier\nJale Papila\, Alt\nUlrich Bildstein\, Schauspieler\nAlla Rutter\, Viola\n\nGrafik: Kammerkunstverein
URL:https://halle424.de/veranstaltung/geburtstagskonzert-in-der-424/
LOCATION:Halle 424\, Stockmeyerstr. 43\, Hamburg\, 20457\, Deutschland
CATEGORIES:Feierabendkonzert
ORGANIZER;CN="Hamburger%20Kammerkunstverein":MAILTO:tickets@kammerkunst.de
GEO:53.5424701;10.0088123
X-APPLE-STRUCTURED-LOCATION;VALUE=URI;X-ADDRESS=Halle 424 Stockmeyerstr. 43 Hamburg 20457 Deutschland;X-APPLE-RADIUS=500;X-TITLE=Stockmeyerstr. 43:geo:10.0088123,53.5424701
END:VEVENT
END:VCALENDAR