BEGIN:VCALENDAR
VERSION:2.0
PRODID:-//Halle 424 - ECPv5.1.6//NONSGML v1.0//EN
CALSCALE:GREGORIAN
METHOD:PUBLISH
X-WR-CALNAME:Halle 424
X-ORIGINAL-URL:https://halle424.de
X-WR-CALDESC:Veranstaltungen für Halle 424
BEGIN:VTIMEZONE
TZID:Europe/Berlin
BEGIN:DAYLIGHT
TZOFFSETFROM:+0100
TZOFFSETTO:+0200
TZNAME:CEST
DTSTART:20240331T010000
END:DAYLIGHT
BEGIN:STANDARD
TZOFFSETFROM:+0200
TZOFFSETTO:+0100
TZNAME:CET
DTSTART:20241027T010000
END:STANDARD
END:VTIMEZONE
BEGIN:VEVENT
DTSTART;VALUE=DATE:20240331
DTEND;VALUE=DATE:20240401
DTSTAMP:20260421T035228
CREATED:20240216T102952Z
LAST-MODIFIED:20240216T102952Z
UID:6084-1711843200-1711929599@halle424.de
SUMMARY:JazzTracks424 - 2024 - Tickets
DESCRIPTION:Liebe Freunde der JazzTracks424 Reihe in der Halle424. \nAb sofort verkaufen wir wieder Gutschein-Pakete für das Konzertjahr 2024. Erhältlich sind 3-er und 5-er Pakete  (für jeweils 80 bzw. 125€). Die Ticketgutscheine gelten für alle JazzTracks424 Konzerte im Jahr 2024. \nDie Gutscheine können unter der email halle424.ek@t-online.de bestellt werden. Sie kommen schön verpackt in einem Umschlag und machen sich auch super als Geschenk. \nHier die wichtigsten Konzertermine zum Einlösen: \nVorschau JazzTracks424 für 2024\n(more to come)\n23.02.2024 Matthieu Bordenave Trio w/ Florian Weber & Patrice Moret (D/F/CH)\n10.03.2024 Sera Kalo & Band (US/Caribbean)\n09.04.2024 Mark Turner Quartet (US)\n26.04.2024 Martin Wind Quartet (US/D)\n\n10.05.2024 Matthieu Chazarenc Trio – CANTO III (F)\n17.05.2024 Manon Mullener 4tet (CH)\n06.06.2024 Lisa Wulff  – POISON IVY -Release\n28.06.2024 Itamar Borochov (ISR)\n06.09.2024 Nitai Hershkovits (ISR)\n11.10.2024  Josefine Lindstrand (S)\n13.12.2024 Triosence\nWir sehen uns!\n  \n  \n  \n  \n 
URL:https://halle424.de/veranstaltung/jazztracks424-2024-tickets-2/
LOCATION:Halle 424\, Stockmeyerstr. 43\, Hamburg\, 20457\, Deutschland
CATEGORIES:Jazz Tracks424
ORGANIZER;CN="Halle424-Verein%20zur%20F%C3%B6rderung%20von%20Musik%20%20und%20Kultur%20im%20Oberhafen%20e.V.":MAILTO:halle424.ek@t-online.de
GEO:53.5424701;10.0088123
X-APPLE-STRUCTURED-LOCATION;VALUE=URI;X-ADDRESS=Halle 424 Stockmeyerstr. 43 Hamburg 20457 Deutschland;X-APPLE-RADIUS=500;X-TITLE=Stockmeyerstr. 43:geo:10.0088123,53.5424701
END:VEVENT
END:VCALENDAR