BEGIN:VCALENDAR
VERSION:2.0
PRODID:-//Halle 424 - ECPv5.1.6//NONSGML v1.0//EN
CALSCALE:GREGORIAN
METHOD:PUBLISH
X-WR-CALNAME:Halle 424
X-ORIGINAL-URL:https://halle424.de
X-WR-CALDESC:Veranstaltungen für Halle 424
BEGIN:VTIMEZONE
TZID:Europe/Berlin
BEGIN:DAYLIGHT
TZOFFSETFROM:+0100
TZOFFSETTO:+0200
TZNAME:CEST
DTSTART:20230326T010000
END:DAYLIGHT
BEGIN:STANDARD
TZOFFSETFROM:+0200
TZOFFSETTO:+0100
TZNAME:CET
DTSTART:20231029T010000
END:STANDARD
END:VTIMEZONE
BEGIN:VEVENT
DTSTART;TZID=Europe/Berlin:20230731T200000
DTEND;TZID=Europe/Berlin:20230731T220000
DTSTAMP:20260424T143447
CREATED:20230706T123014Z
LAST-MODIFIED:20230706T123014Z
UID:5791-1690833600-1690840800@halle424.de
SUMMARY:JazzTracks424 VORSCHAU
DESCRIPTION:Liebe Freunde\, \nwir machen eine kleine Sommerpause\, aber hinter den Kulissen\, hinter der Website geht es munter weiter. \nDa es immer ein paar Tage dauert\, die einzelnen Konzertinformationen zu sammeln\, auf die Website zu stellen und Ticketlines zu schalten\, hier eine Vorschau. \nDies ist also ein Platzhalter für zukünftige\, detaillierte Informationen. \nHabt einen schönen Sommer und ’stay tuned‘! \n 
URL:https://halle424.de/veranstaltung/jazztracks424-vorschau/
LOCATION:Halle 424\, Stockmeyerstr. 43\, Hamburg\, 20457\, Deutschland
CATEGORIES:Jazz Tracks424
ORGANIZER;CN="Halle424-Verein%20zur%20F%C3%B6rderung%20von%20Musik%20%20und%20Kultur%20im%20Oberhafen%20e.V.":MAILTO:halle424.ek@t-online.de
GEO:53.5424701;10.0088123
X-APPLE-STRUCTURED-LOCATION;VALUE=URI;X-ADDRESS=Halle 424 Stockmeyerstr. 43 Hamburg 20457 Deutschland;X-APPLE-RADIUS=500;X-TITLE=Stockmeyerstr. 43:geo:10.0088123,53.5424701
END:VEVENT
END:VCALENDAR