BEGIN:VCALENDAR
VERSION:2.0
PRODID:-//Halle 424 - ECPv5.1.6//NONSGML v1.0//EN
CALSCALE:GREGORIAN
METHOD:PUBLISH
X-WR-CALNAME:Halle 424
X-ORIGINAL-URL:https://halle424.de
X-WR-CALDESC:Veranstaltungen für Halle 424
BEGIN:VTIMEZONE
TZID:Europe/Berlin
BEGIN:DAYLIGHT
TZOFFSETFROM:+0100
TZOFFSETTO:+0200
TZNAME:CEST
DTSTART:20230326T010000
END:DAYLIGHT
BEGIN:STANDARD
TZOFFSETFROM:+0200
TZOFFSETTO:+0100
TZNAME:CET
DTSTART:20231029T010000
END:STANDARD
END:VTIMEZONE
BEGIN:VEVENT
DTSTART;TZID=Europe/Berlin:20231006T200000
DTEND;TZID=Europe/Berlin:20231006T220000
DTSTAMP:20260422T065024
CREATED:20230714T144450Z
LAST-MODIFIED:20230717T182915Z
UID:5809-1696622400-1696629600@halle424.de
SUMMARY:Johanna Summer - RESONANZEN
DESCRIPTION:https://www.youtube.com/watch?v=j5D_IqsDLyw \nJohanna Summer (Solo Piano) \nAuf „Resonanzen“ erweitert und vertieft Johanna Summer ihren ganz eigenen Ansatz des improvisatorischen Weiter-Erzählens der Musik klassischer Komponisten. Das Album spannt einen weiten Bogen\, ausgehend von Bach über Beethoven\, Schubert\, Tschaikowski\, Grieg und Ravel bis zu Skrjabin\, Mompou und Ligeti. Virtuos durchdringt sie die beiden Welten Komposition und Improvisation. Es ist erstaunlich wie souverän dieser Spagat gelingt. Summers Spiel wirkt so selbstbewusst\, so lebendig und seelenvoll. Und hinter jeder Abbiegung wartet wieder eine neue Überraschung. \nIgor Levitt schwärmt: „Johanna Summer ist eine herausragende Jazzpianistin. Sie ist so zentriert und bei sich\, geht so souverän und frei mit dem Material um und trifft doch die ganze Zeit ihren eigenen Ton.“ Piano-Poet Malakoff Kowalski findet die Musik schlicht „skandalös gut“ und zeigt sich „hingerissen und verblüfft von einer Künstlerin\, die furchtlos der Musik folgt.“ Und Jazz-Ikone Joachim Kühn konstatiert: „Johanna Summers Musik ist voller Fantasie und ohne Kategorie. \nJohanna begann im Alter von 7 Jahren zunächst mit klassischem Klavierunterricht. Auf der Suche nach einer Musik\, die aus dem Moment heraus entsteht und spontan mit Anderen gespielt werden kann\, fand sie zum Jazz. Sie absolvierte ein Bachelorstudium an der Hochschule in Dresden\, wo sie mit freier Improvisation in Berührung kam. Fasziniert von der Unmittelbarkeit dieser Musik begann sie Solokonzerte zu geben – zunächst ausgehend vom Kanon des »Great American Songbook«\, jedoch immer mit einer offenen und flexiblen Spielhaltung und ohne zurechtgelegte Setlist. Nach und nach wandte sie sich immer mehr ihren musikalischen Wurzeln zu und suchte nach Wegen\, klassische Musik in einen improvisatorischen Kontext zu setzen. Ihr erstes Programm »Schumann Kaleidoskop« befasste sich mit Kompositionen von Robert Schumann und wurde 2021 für den Deutschen Jazzpreis nominiert. \n 
URL:https://halle424.de/veranstaltung/johanna-summer-resonanzen/
LOCATION:Halle 424\, Stockmeyerstr. 43\, Hamburg\, 20457\, Deutschland
CATEGORIES:Jazz Tracks424,Klassik
ORGANIZER;CN="Halle424-Verein%20zur%20F%C3%B6rderung%20von%20Musik%20%20und%20Kultur%20im%20Oberhafen%20e.V.":MAILTO:halle424.ek@t-online.de
GEO:53.5424701;10.0088123
X-APPLE-STRUCTURED-LOCATION;VALUE=URI;X-ADDRESS=Halle 424 Stockmeyerstr. 43 Hamburg 20457 Deutschland;X-APPLE-RADIUS=500;X-TITLE=Stockmeyerstr. 43:geo:10.0088123,53.5424701
END:VEVENT
END:VCALENDAR