BEGIN:VCALENDAR
VERSION:2.0
PRODID:-//Halle 424 - ECPv5.1.6//NONSGML v1.0//EN
CALSCALE:GREGORIAN
METHOD:PUBLISH
X-WR-CALNAME:Halle 424
X-ORIGINAL-URL:https://halle424.de
X-WR-CALDESC:Veranstaltungen für Halle 424
BEGIN:VTIMEZONE
TZID:Europe/Berlin
BEGIN:DAYLIGHT
TZOFFSETFROM:+0100
TZOFFSETTO:+0200
TZNAME:CEST
DTSTART:20230326T010000
END:DAYLIGHT
BEGIN:STANDARD
TZOFFSETFROM:+0200
TZOFFSETTO:+0100
TZNAME:CET
DTSTART:20231029T010000
END:STANDARD
END:VTIMEZONE
BEGIN:VEVENT
DTSTART;TZID=Europe/Berlin:20231027T200000
DTEND;TZID=Europe/Berlin:20231027T220000
DTSTAMP:20260422T033303
CREATED:20230717T193321Z
LAST-MODIFIED:20230917T061930Z
UID:5820-1698436800-1698444000@halle424.de
SUMMARY:Kira Linn - LINNTETT
DESCRIPTION:https://www.youtube.com/watch?v=qxPa1teAR9c \nILLUSION (Whirlwind Records 04/23) \nKira Linn (Baritonsaxophon\, Komposition\, Stimme) \nNino Wenger (Altsaxophon\, Flöte) \nChristopher Kunz (Tenor – und Sopransaxophon) \nLukas Großmann (Piano\, Synthesizer) \nLisa Köberlein (Electric Bass) \nJohannes Koch (Schlagzeug) \nKira Linn ist eine Deutsche Bariton-Saxophonistin\, Sängerin und Komponistin. Sie wurde in Wiesbaden geboren\, studierte in Nürnberg und Basel\, wo sie auch heute noch viel Zeit verbringt. Sie hat in ihrer noch jungen Karriere schon mit Jazzgrößen wie Randy Brecker\, Dominic Landolf u.a. auf der Bühne gestanden und tourte durch Europa\, die USA und Südamerika.\n \nAls Bandleaderin ihrer Formation Linntett hat sie bereits 3 Alben produziert. 2022 konnte sie mit ihrem 6köpfigen Linntett auf der Jazzahead in Bremen begeistern. Auf der neuen Platte ILLUSION begeht Kira Linn mit ihrem Sextett gleich mehrere neue Pfade: Erstmals benutzt sie ihre Stimme und hat eigene Lyrics für eine Auswahl Songs geschrieben. Wut und Ohnmacht\, aber auch Kraft\, Diversität und Freiheit sind Kernbegriffe und Emotionen\, die während der Pandemie aufkamen und sich durch das neue Album ziehen. Inspirationen bilden Billie Eilish\, Hiatus Kaiyote und Bon Iver\, genremäßig bewegt sich ILLUSION in Gefilden von Jazz über ​​Pop und Indie bis Electro\, Neo-Soul\, R&B. Oder: irgendwo zwischen authentischem Jazz-Gestus\, Neo-Soul-Romantik und latent-irrem Nintendo-Pop\, gespielt von drei Saxophonen sowie Rhodes\, E-Bass und Drums. \n„Kira Linn is a very talented young baritone saxophone player. In her compositions\, she explores the jazz language in depth while developing her own distinctive musical vision.“ Jorge Rossy \n 
URL:https://halle424.de/veranstaltung/kira-linn-linntett/
LOCATION:Halle 424\, Stockmeyerstr. 43\, Hamburg\, 20457\, Deutschland
CATEGORIES:Jazz Tracks424
ORGANIZER;CN="Halle424-Verein%20zur%20F%C3%B6rderung%20von%20Musik%20%20und%20Kultur%20im%20Oberhafen%20e.V.":MAILTO:halle424.ek@t-online.de
GEO:53.5424701;10.0088123
X-APPLE-STRUCTURED-LOCATION;VALUE=URI;X-ADDRESS=Halle 424 Stockmeyerstr. 43 Hamburg 20457 Deutschland;X-APPLE-RADIUS=500;X-TITLE=Stockmeyerstr. 43:geo:10.0088123,53.5424701
END:VEVENT
END:VCALENDAR