BEGIN:VCALENDAR
VERSION:2.0
PRODID:-//Halle 424 - ECPv5.1.6//NONSGML v1.0//EN
CALSCALE:GREGORIAN
METHOD:PUBLISH
X-WR-CALNAME:Halle 424
X-ORIGINAL-URL:https://halle424.de
X-WR-CALDESC:Veranstaltungen für Halle 424
BEGIN:VTIMEZONE
TZID:Europe/Berlin
BEGIN:DAYLIGHT
TZOFFSETFROM:+0100
TZOFFSETTO:+0200
TZNAME:CEST
DTSTART:20240331T010000
END:DAYLIGHT
BEGIN:STANDARD
TZOFFSETFROM:+0200
TZOFFSETTO:+0100
TZNAME:CET
DTSTART:20241027T010000
END:STANDARD
END:VTIMEZONE
BEGIN:VEVENT
DTSTART;TZID=Europe/Berlin:20240114T180000
DTEND;TZID=Europe/Berlin:20240114T200000
DTSTAMP:20260421T065440
CREATED:20231126T142555Z
LAST-MODIFIED:20231214T094101Z
UID:5955-1705255200-1705262400@halle424.de
SUMMARY:LUDOVICO EINAUDI. seven days walking
DESCRIPTION:14 January 18:00\nHamburg Halle 424\n\n\n\n\nSimple Music Ensemble spielt Einaudi\nSeven Days Walking. Eine instrumentale Hommage.\n\n\n\n\nAm 14 Januar wird das Simple Music Ensemble World Kompositionen aus dem Album Seven Days Walking von Ludovico Einaudi aufführen. \nDer renommierte italienische neoklassische Komponist Ludovico Einaudi präsentiert im Herbst 2019 den letzten Teil seines siebenbändigen Musikprojekts Seven Days Walking. Seine traumhaft schönen Skizzen von Natur\, Stimmungen und Wetter entstehen auf seinen Wanderungen in den verschneiten Alpen. \nDie Idee für das Projekt wurde in der Schweiz geboren\, wo er die Zeit zwischen den Projekten damit verbrachte\, viel Musik zu hören und die Landschaften zu skizzieren\, die er jeden Tag bei langen Wanderungen auf Bergpfaden beobachtete. \nVon den Bergen spricht man gewöhnlich in gespannten Tönen der Überwindung und gegenseitigen Hilfe. Der italienische Maestro hingegen hat ein extrovertiertes\, subtiles\, aquarelliertes Selbstporträt des kreativen Prozesses geschaffen\, eine Demonstration der Spiegelungen und Schattierungen seelenvoller Stimmungen\, die sich in majestätischen und mystischen Landschaften widerspiegeln. \nSimple Music Ensemble World ist ein Chamber Music Community das Konzerte auf den besten Bühnen der Welt veranstaltet und professionelle Musiker aus verschiedenen Ländern vereint\, die ihre Arbeit aufrichtig lieben. \nDas Team ist vielseitig und entwickelt sich ständig weiter\, führt neue Ideen ein und erweitert die Grenzen seiner kreativen Tätigkeit. \n\n\n\n\n\n\nRenowned Italian neoclassical composer Ludovico Einaudi will present the final installment of his seven-volume musical project Seven Days Walking in fall 2019. His fantastically beautiful sketches of nature\, moods and weather are created on his walks in the snowy Alps.\n\n\n\n\n\n\n-Ludovico Einaudi himself will not be present at the concert. Simple Music Ensemble World will perform Einaudi’s music\, but will not play with him personally. Tickets for the concert are valid only if purchased at www.eventim-light.ch or at www.ticketcorner.ch.-\n\nThis ambitious work has won over Einaudi’s large audience. Day 6\, released in August 2019\, climbed to #2 on the UK Classical FM chart\, just behind Islands\, another Ludovico release that reached #1. \nThe idea for the project was born in Switzerland\, where he spent the time between projects listening to a lot of music and sketching the landscapes he observed every day during long hikes on mountain trails. He began recording music to capture his impressions of each day: „I remember that I often took long walks in the mountains\, always staying on about the same path. There was a lot of snow. My thoughts swirled around in the blizzard – everything lost its contours and colors in it. Maybe exactly this feeling is the essence of the album“. And this is how the musical labyrinth of the seven-volume Seven Days Walking was laid out. \nOne usually speaks of the mountains in tense tones of overcoming and helping each other. The Italian maestro\, however\, has created an extroverted\, subtle\, watercolor self-portrait of the creative process\, a demonstration of the reflections and shades of soulful moods reflected in majestic and mystical landscapes. \nConcert program*: \nElements\nUna Mattina\nDivenire\nFly\nPetricor\nThe Crane Dance\nIndaco\nLady Labyrinth\nExperience\nGolden Butterflies\nBerlin Song\nLow Mist\nCold Wind\nCamfire\nPrimavera\nThe Path of the Fossils \n\n\n\nhttps://halle424.de/wp-content/uploads/2023/11/Video_Einaudi_Music-Ensemble-LLC_20231123_120223_6213.mp4\n*the concert program and the cast of artists are subject to change \n\n\ntickets\n\n\n\n\nludovico einaudi. seven days walking\n\ntickets\n\nOn January 14th\, Simple Music Ensemble World will perform compositions from Ludovico Einaudi’s album “Seven Days Walking”.
URL:https://halle424.de/veranstaltung/ludovice-einaudi-seven-days-walking/
LOCATION:Halle 424\, Stockmeyerstr. 43\, Hamburg\, 20457\, Deutschland
CATEGORIES:Filmmusik
GEO:53.5424701;10.0088123
X-APPLE-STRUCTURED-LOCATION;VALUE=URI;X-ADDRESS=Halle 424 Stockmeyerstr. 43 Hamburg 20457 Deutschland;X-APPLE-RADIUS=500;X-TITLE=Stockmeyerstr. 43:geo:10.0088123,53.5424701
END:VEVENT
END:VCALENDAR