BEGIN:VCALENDAR
VERSION:2.0
PRODID:-//Halle 424 - ECPv5.1.6//NONSGML v1.0//EN
CALSCALE:GREGORIAN
METHOD:PUBLISH
X-WR-CALNAME:Halle 424
X-ORIGINAL-URL:https://halle424.de
X-WR-CALDESC:Veranstaltungen für Halle 424
BEGIN:VTIMEZONE
TZID:Europe/Berlin
BEGIN:DAYLIGHT
TZOFFSETFROM:+0100
TZOFFSETTO:+0200
TZNAME:CEST
DTSTART:20240331T010000
END:DAYLIGHT
BEGIN:STANDARD
TZOFFSETFROM:+0200
TZOFFSETTO:+0100
TZNAME:CET
DTSTART:20241027T010000
END:STANDARD
END:VTIMEZONE
BEGIN:VEVENT
DTSTART;TZID=Europe/Berlin:20240906T200000
DTEND;TZID=Europe/Berlin:20240906T220000
DTSTAMP:20260420T101843
CREATED:20240609T152612Z
LAST-MODIFIED:20240620T100458Z
UID:6255-1725652800-1725660000@halle424.de
SUMMARY:Nitai Hershkovits - Call on the Old Wise
DESCRIPTION:https://www.youtube.com/watch?v=ro528a7p0TM \nCALL ON THE OLD WISE \nNitai Hershkovits – Solo Piano \nECM-Release \nMit Call on the old Wise legt der israelische Pianist Nitai Hershkovits sein bemerkenswertes Solo-Debüt für ECM vor. In diesem größtenteils improvisierten Programm schöpft Hershkovits aus einem breiten Spektrum von Einflüssen\, die von seiner umfangreichen Arbeit in Jazzkontexten und experimentellen zeitgenössischen Erkundungen bis zur klassischen Musik reichen. Sein feinfühliger Umgang mit diesen verschiedensten Idiomen ergibt eine einzigartige Spannweite an Klangfarben\, die belegen\, dass der Pianist längst eine gänzlich eigenständige Stimme als Improvisator und Formgestalter entwickelt hat. Sanften Anschlags\, mit leichtfüßig-verspielten Bewegungen über die Tasten und versonnenen Harmonien entfalten sich Nitais Improvisationen wie Kompositionen\, die in Echtzeit entstehen. \nCall on the Old Wise ist ein Zeugnis des einzigartigen Erfindungsreichtums Nitais und eine unverzichtbare Ergänzung der profilierten Serie von Solo-Klavier-Aufnahmen auf ECM. Das Album\, 2022 in Lugano aufgenommen und von Manfred Eicher produziert\, folgt auf Nitais Beiträge als Teil von Oded Tzurs Quartett auf Here Be Dragons (2020) und Isabela (2022). \nhttps://www.nitaihmusic.com/ \nFoto (c) Hila Chen \n 
URL:https://halle424.de/veranstaltung/nitai-hershkovits-isr-call-on-the-old-wise/
LOCATION:Halle 424\, Stockmeyerstr. 43\, Hamburg\, 20457\, Deutschland
CATEGORIES:Jazz Tracks424
ORGANIZER;CN="Halle424-Verein%20zur%20F%C3%B6rderung%20von%20Musik%20%20und%20Kultur%20im%20Oberhafen%20e.V.":MAILTO:halle424.ek@t-online.de
GEO:53.5424701;10.0088123
X-APPLE-STRUCTURED-LOCATION;VALUE=URI;X-ADDRESS=Halle 424 Stockmeyerstr. 43 Hamburg 20457 Deutschland;X-APPLE-RADIUS=500;X-TITLE=Stockmeyerstr. 43:geo:10.0088123,53.5424701
END:VEVENT
END:VCALENDAR