BEGIN:VCALENDAR
VERSION:2.0
PRODID:-//Halle 424 - ECPv5.1.6//NONSGML v1.0//EN
CALSCALE:GREGORIAN
METHOD:PUBLISH
X-WR-CALNAME:Halle 424
X-ORIGINAL-URL:https://halle424.de
X-WR-CALDESC:Veranstaltungen für Halle 424
BEGIN:VTIMEZONE
TZID:Europe/Berlin
BEGIN:DAYLIGHT
TZOFFSETFROM:+0100
TZOFFSETTO:+0200
TZNAME:CEST
DTSTART:20230326T010000
END:DAYLIGHT
BEGIN:STANDARD
TZOFFSETFROM:+0200
TZOFFSETTO:+0100
TZNAME:CET
DTSTART:20231029T010000
END:STANDARD
END:VTIMEZONE
BEGIN:VEVENT
DTSTART;TZID=Europe/Berlin:20230927T180000
DTEND;TZID=Europe/Berlin:20230927T190000
DTSTAMP:20260422T095124
CREATED:20230901T093005Z
LAST-MODIFIED:20230927T075959Z
UID:5839-1695837600-1695841200@halle424.de
SUMMARY:NOVUM DUO Feierabendkonzert in der Halle424
DESCRIPTION:Im September lernen die Zuhörer und Liebhaber der Hamburger Kammerkunst einen neuen Musiker\, César Cabañero Martínez\, ein Instrument\, das es im Kammerkunstverein bislang fast nie gab\, das Horn und zwei Komponisten\, die im Kammerkunstverein noch nie gespielt wurden\, kennen.Im Feierabendkonzert spielen der Hornist César Cabañero Martínez und der Pianist Franck-Thomas Link u. a. die Sonate F-Dur op. 17 für Horn und Klavier von Ludwig van Beethoven und „Introduktion\, Thema und Variation“ op. 13 von Franz Strauss. Dazu wird César auch ein bisschen über das Horn und auch über das Naturhorn sprechen. Vielleicht spielt er sogar die Beethoven-Sonate auf dem Naturhorn.\n\n\n• César Cabañero Martínez\, Horn\n• Franck-Thomas Link\, Klavier\n\nFoto: Kammerkunstverein
URL:https://halle424.de/veranstaltung/novum-duo-feierabendkonzert-in-der-halle424/
LOCATION:Halle 424\, Stockmeyerstr. 43\, Hamburg\, 20457\, Deutschland
CATEGORIES:Feierabendkonzert
ORGANIZER;CN="Hamburger%20Kammerkunstverein":MAILTO:tickets@kammerkunst.de
GEO:53.5424701;10.0088123
X-APPLE-STRUCTURED-LOCATION;VALUE=URI;X-ADDRESS=Halle 424 Stockmeyerstr. 43 Hamburg 20457 Deutschland;X-APPLE-RADIUS=500;X-TITLE=Stockmeyerstr. 43:geo:10.0088123,53.5424701
END:VEVENT
END:VCALENDAR