BEGIN:VCALENDAR
VERSION:2.0
PRODID:-//Halle 424 - ECPv5.1.6//NONSGML v1.0//EN
CALSCALE:GREGORIAN
METHOD:PUBLISH
X-WR-CALNAME:Halle 424
X-ORIGINAL-URL:https://halle424.de
X-WR-CALDESC:Veranstaltungen für Halle 424
BEGIN:VTIMEZONE
TZID:Europe/Berlin
BEGIN:DAYLIGHT
TZOFFSETFROM:+0100
TZOFFSETTO:+0200
TZNAME:CEST
DTSTART:20230326T010000
END:DAYLIGHT
BEGIN:STANDARD
TZOFFSETFROM:+0200
TZOFFSETTO:+0100
TZNAME:CET
DTSTART:20231029T010000
END:STANDARD
END:VTIMEZONE
BEGIN:VEVENT
DTSTART;TZID=Europe/Berlin:20231216T200000
DTEND;TZID=Europe/Berlin:20231216T220000
DTSTAMP:20260421T100600
CREATED:20231101T103250Z
LAST-MODIFIED:20231214T081358Z
UID:5927-1702756800-1702764000@halle424.de
SUMMARY:Oddgeir Berg Trio (NOR) - XMAS came early
DESCRIPTION:Oddgeir Berg Trio \nOddgeir Berg (piano\, keys) \nKarl-Joakim Wisloeff (bass) \nLars Berntsen (drums) \nXMAS came early steht vielleicht nicht für das seltsamste Weihnachtsalbum\, das je aufgenommen wurde\, aber es zählt sicher zu einem der radikalsten. Es werden auch populäre Songs wie ‚Silent Night‘ und ‚In Dulce Jubilo‘ präsentiert. Aber das Oddgeir Berg Trio interpretiert sie mit solch leidenschaftlicher Zurückhaltung\, dass sie zeitweise wie von der Band Bohren & Der Club of Gore klingen\, die u.a. für ihre Metal-Klänge berühmt ist. Weihnachten in Norwegen scheint ein wenig dunkler zu sein\, als bei uns. \nMan wird in eine klangliche Dämmerung versetzt\, zwischen Tag und Nacht\, der Sound mittlerweile ein Markenzeichen der Band. XMAS came early zu hören ist wie ein Geschenk\, das man sich selber macht – egal zu welcher Jahreszeit oder Gelegenheit. \n\n\n\n\n‚Gleich mit den ersten Tönen zieht einen das Oddgeir Berg Trio\, ob man will oder nicht\, in eine seltsam unwirkliche Atmosphäre\, die in der Weihnachtszeit\, die man ja nicht zu Unrecht die stillen Tage nennt\, allgegenwärtig ist. Das liegt vor allem am langsamen Tempo\, mit dem der norwegische Pianist und seine Mitstreiter Karl-Joakim Wisløff am Bass und Lars Berntsen am Schlagzeug diverse Weihnachtsklassiker geradezu zelebriert. So dehnt sich „Es ist ein Ros entsprungen“ auf acht Minuten aus\, „In Dulci Jubilo“ wird mit sechs Minuten auch nicht viel kürzer. Bergs Anschlag ist delikat\, Wisløffs Bass knorrig und Berntsen raschelt vornehmlich mit den Besen. Alle drei versenken sich in einen ästhetisch klaren Klang\, für dessen klare Mischung Berg selbst verantwortlich zeichnet. Ein Weihnachtsalbum ohne Schnickschnack und ohne Kitsch\, das seinesgleichen sucht‘. Rolf Thomas\, Jazz thing 141 \n‚The late Paul Bley (1932-2016) once said of his ECM Records release Open\, To Love (1972)\, that the sound he created there was his attempt to prove he was the slowest pianist in the world. He was a man with a sense of humor\, and his tongue had surely wormed its way into his cheek with that observation. And the mention of Bley in a review of an Oddgeir Berg Trio album comes about for a couple of reasons. One: if jazz has an evolutionary tree\, Oddgeir Berg’s style of piano playing could be considered a branch off of Bley’s. Both artists are known for their patient deliveries and subtle touches\, and their molding of circuitous melodies from strings of notes that play out in unconventionally melodic ways. And two: both have a way of slowing time\, like they are playing piano in a dimension that\, as Bob Dylan once said\, „Time Passes Slowly.“ Or maybe Bley\, and now the Oddgeir Berg Trio\, simply enjoyed/enjoy the art of the slow tempo. (…)‘ Dan McClanaghan\, All About Jazz \nFoto: Oddgeir Berg
URL:https://halle424.de/veranstaltung/oddgeir-berg-trio-nor-xmas-came-early/
LOCATION:Halle 424\, Stockmeyerstr. 43\, Hamburg\, 20457\, Deutschland
CATEGORIES:Jazz Tracks424
ORGANIZER;CN="Now%20Here%20Nina%20Homan":MAILTO:mailto:magdalena.reusch@t-online.de
GEO:53.5424701;10.0088123
X-APPLE-STRUCTURED-LOCATION;VALUE=URI;X-ADDRESS=Halle 424 Stockmeyerstr. 43 Hamburg 20457 Deutschland;X-APPLE-RADIUS=500;X-TITLE=Stockmeyerstr. 43:geo:10.0088123,53.5424701
END:VEVENT
END:VCALENDAR