BEGIN:VCALENDAR
VERSION:2.0
PRODID:-//Halle 424 - ECPv5.1.6//NONSGML v1.0//EN
CALSCALE:GREGORIAN
METHOD:PUBLISH
X-WR-CALNAME:Halle 424
X-ORIGINAL-URL:https://halle424.de
X-WR-CALDESC:Veranstaltungen für Halle 424
BEGIN:VTIMEZONE
TZID:Europe/Berlin
BEGIN:DAYLIGHT
TZOFFSETFROM:+0100
TZOFFSETTO:+0200
TZNAME:CEST
DTSTART:20240331T010000
END:DAYLIGHT
BEGIN:STANDARD
TZOFFSETFROM:+0200
TZOFFSETTO:+0100
TZNAME:CET
DTSTART:20241027T010000
END:STANDARD
END:VTIMEZONE
BEGIN:VEVENT
DTSTART;TZID=Europe/Berlin:20240209T200000
DTEND;TZID=Europe/Berlin:20240209T220000
DTSTAMP:20260421T065843
CREATED:20231224T175532Z
LAST-MODIFIED:20240112T112730Z
UID:6004-1707508800-1707516000@halle424.de
SUMMARY:Shuteen Erdenebaatar 4tet  - RISING SUN (MNG/D)
DESCRIPTION:https://www.youtube.com/watch?v=ZzRzSTlLjxw&t=1s \nSHUTEEN ERDENEBAATAR – RISING SUN (Release-Tour)\n \nShuteen Erdenebaatar (composition\, piano) \nAnton Mangold (saxophone\, flute) \nNils Kugelmann (bass) \nValentin Renner (drums) \n​Die in der mongolischen Hauptstadt Ulaanbaatar geborene Komponistin und Pianistin Shuteen Erdenebaatar (*1998) bringt mit ihren sehnsuchtsvollen Melodien\, angereichert mit tiefgründigen und ausdrucksstarken Harmonien und Rhythmen\, einen einzigartigen Klang zu Gehör. Aufgewachsen als klassische Musikerin\, begann sie im Alter von 16 Jahren bereits ihr Bachelor-Studium in klassischer Komposition. Unmittelbar nach ihrem erfolgreichen Abschluss kam sie 2018 nach München\, um ihren Horizont mit einem Doppelmasterstudium in Jazzklavier und Jazzkomposition an der Hochschule für Musik und Theater zu erweitern. Im Alter von 23 Jahren hat sie zwei Masterstudiengänge und ein Weiterbildendes Zertifikatsstudium Meisterklasse erfolgreich absolviert. ​ \nShuteen Erdenebaatar ist Preisträgerin u.a. des renommierten BMW Young Artist Jazz Award 2022\, des Musikstipendiums der Stadt München\, des 1. Preises und Publikumspreises des 10. Jungen Münchner Jazzpreises\, des Kompositionspreises beim Biberacher Jazzpreis 2022 und des 1. Preises beim Kurt Maas Jazzpreis 2021.​ \nIhre eigenen Kompositionen wurden bereits in der Münchner Philharmonie oder im Studio 2 des Bayerischen Rundfunks aufgeführt. Darüber hinaus erhielt sie Kompositionsaufträge von den bedeutendsten Orchestern der Mongolei\, wie der Bayan Mongol Big Band\, dem Mongolischen Staatsphilharmonieorchester oder dem Symphonieorchester der Mongolischen Staatsoper. \nDerzeit arbeitet sie als Komponistin und Pianistin an eigenen Projekten wie dem Shuteen Erdenebaatar Quartett\, dem Lightville Duo mit Nils Kugelmann\, und als Dirigentin ihres neu gegründeten 20-köpfigen\, genreübergreifenden Chamber Jazz Orchestra in München.  \nDas Debütalbum des Quartetts ‚RISING SUN‘ wurde am 15. September 2023 auf dem New Yorker\, mehrfach mit dem GRAMMY ausgezeichnete Label Motéma Music veröffentlicht. Obwohl das Quartett der Pianistin und Komponistin eine Standard-Jazz-Besetzung hat (Klavier\, Bass\, Saxophon und Schlagzeug)\, gelingt es Erdenebaatar\, diesem Format eine frische\, moderne Färbung zu verleihen\, die ihr ganz eigen ist. Ihr unverwechselbarer Sound lässt sich an der energiegeladenen Freiheit und dynamischen Einheit erkennen\, mit der sie ihre Band führt. Sie ermutigt sie immer wieder\, einzeln und als Gruppe mit instinktiver freier Improvisation und ausdrucksstarker Interaktion zu harmonieren\, was sie zu einer Raffinesse des Zusammenspiels führt\, die für ihr jugendliches Alter nicht zu erwarten ist. Getragen wird das Quartett von dem jungen\, aber hochkarätigen Münchner Bassisten Nils Kugelmann und angetrieben von dem kraftvollen\, aber sensiblen Schlagzeugspiel von Valentin Renner. Die melodisch und rhythmisch ausgefeilten Erfindungen des mehrfach preisgekrönten Saxophonisten und Flötisten Anton Mangold vervollständigen den Sound neben Erdenebaatars sehr persönlichem und einnehmendem Pianospiel. ​ \n„Shuteen Erdenebaatar\, das Wunderkind aus Ulan Baator“\, Belgischer Rundfunk\n \n„Shuteen Erdenebaatars Kompositionen können sich bereits jetzt mit Vergleichbarem so renommierter Großformationen wie der Maria Schneider Big Band oder dem Metropol Orkest messen“. Oliver Hochkeppel\, Kulturjournalist  \n \n„Die Musik von Shuteen klingt so positiv und lebensbejahend\, dass man sich einfach auf das freut\, was noch kommt.“ Bayrischer Rundfunk \n„…leidenschaftlich\, stürmisch\, abenteuerlich und klug…„ Süddeutsche Zeitung \n„Es ist Musik\, die Brücken schlägt zwischen der mongolischen Hauptstadt\, die von hohen Bergen umgeben ist\, der Jazztradition und der klassischen Musik.“ All About Jazz\n \nwww.shuteenerdenebaatar.com \nFoto: (c) Georg Stirnweiß \n 
URL:https://halle424.de/veranstaltung/shuteen-erdenebaatar-4tet-rising-sun-mng-d/
LOCATION:Halle 424\, Stockmeyerstr. 43\, Hamburg\, 20457\, Deutschland
CATEGORIES:Jazz Tracks424
ORGANIZER;CN="Halle424-Verein%20zur%20F%C3%B6rderung%20von%20Musik%20%20und%20Kultur%20im%20Oberhafen%20e.V.":MAILTO:halle424.ek@t-online.de
GEO:53.5424701;10.0088123
X-APPLE-STRUCTURED-LOCATION;VALUE=URI;X-ADDRESS=Halle 424 Stockmeyerstr. 43 Hamburg 20457 Deutschland;X-APPLE-RADIUS=500;X-TITLE=Stockmeyerstr. 43:geo:10.0088123,53.5424701
END:VEVENT
END:VCALENDAR