BEGIN:VCALENDAR
VERSION:2.0
PRODID:-//Halle 424 - ECPv5.1.6//NONSGML v1.0//EN
CALSCALE:GREGORIAN
METHOD:PUBLISH
X-WR-CALNAME:Halle 424
X-ORIGINAL-URL:https://halle424.de
X-WR-CALDESC:Veranstaltungen für Halle 424
BEGIN:VTIMEZONE
TZID:Europe/Berlin
BEGIN:DAYLIGHT
TZOFFSETFROM:+0100
TZOFFSETTO:+0200
TZNAME:CEST
DTSTART:20230326T010000
END:DAYLIGHT
BEGIN:STANDARD
TZOFFSETFROM:+0200
TZOFFSETTO:+0100
TZNAME:CET
DTSTART:20231029T010000
END:STANDARD
END:VTIMEZONE
BEGIN:VEVENT
DTSTART;TZID=Europe/Berlin:20230916T200000
DTEND;TZID=Europe/Berlin:20230916T220000
DTSTAMP:20260422T112405
CREATED:20230822T190634Z
LAST-MODIFIED:20230823T053858Z
UID:5830-1694894400-1694901600@halle424.de
SUMMARY:Reporter Slam
DESCRIPTION:Reporter Slam geht mitten in die Presse rein \nWer wird Hamburgs unterhaltsamste:r Reporter:in\, am 16.09. in der Halle 424? \n  \nDeutschlands unterhaltsamste Bühnenshow mit Journalist:innen gastiert wieder in Hamburg: der Reporter Slam. Am Samstag\, 16. September\, wetteifern fünf Reporter:innen darum\, wer am besten von einer eigenen Recherche erzählen kann. Beginn ist um 20 Uhr in der Halle 424\, Einlass ist ab 19 Uhr. \nDer Reporter Slam tourt durch ganz Deutschland – und mittlerweile auch im Ausland. Das Konzept: Journalisteninnen und Journalisten erzählen auf der Bühne von ihrer Arbeit\, unter dem Motto: immer mitten in die Presse rein! Jede:r von ihnen bekommt zehn Minuten Zeit. Der Einsatz von Fotos\, Videos\, Musik o.ä. ist dabei ausdrücklich erlaubt. Das Publikum wählt am Ende den neuen Slampion. Er oder sie qualifiziert sich fürs nächste Reporter Slam Jahresfinale in Berlin. \nModeriert wird die Show von Jochen Markett. Für musikalische Highlights sorgt die Showband „Bommi & Brummi“. Ermöglicht wird die Veranstaltung durch eine Kooperation mit der Rudolf Augstein Stiftung. \nDer Slam gehört zum Programm der „1. Hamburger Woche der Pressefreiheit“ vom 11. bis 16.09.2023. Unter dem Motto „Freiheit für die Wahrheit“ stehen die Presse- und Informationsfreiheit in Deutschland und weltweit im Fokus. Die Woche wird in Kooperation mit der Behörde für Kultur und Medien der Freien und Hansestadt Hamburg\, dem Norddeutschen Rundfunk\, Netzwerk Recherche und vielen weiteren Kooperationspartner:innen durchgeführt. \n  \nAm besten schnell Tickets für den Slam sichern\, über die Website halle424.de\nEs wird echt informativ und lustig!
URL:https://halle424.de/veranstaltung/wer-wird-hamburgs-unterhaltsamster-reporter/
LOCATION:Halle 424\, Stockmeyerstr. 43\, Hamburg\, 20457\, Deutschland
CATEGORIES:Themenabend
ORGANIZER;CN="Veranstalter%20von%20Repoeter%20Slams%20und%20Inovertieve%20B%C3%BChnenformaten":MAILTO:jochen.markett@googlemail.com
GEO:53.5424701;10.0088123
X-APPLE-STRUCTURED-LOCATION;VALUE=URI;X-ADDRESS=Halle 424 Stockmeyerstr. 43 Hamburg 20457 Deutschland;X-APPLE-RADIUS=500;X-TITLE=Stockmeyerstr. 43:geo:10.0088123,53.5424701
END:VEVENT
END:VCALENDAR