BEGIN:VCALENDAR
VERSION:2.0
PRODID:-//Halle 424 - ECPv5.1.6//NONSGML v1.0//EN
CALSCALE:GREGORIAN
METHOD:PUBLISH
X-WR-CALNAME:Halle 424
X-ORIGINAL-URL:https://halle424.de
X-WR-CALDESC:Veranstaltungen für Halle 424
BEGIN:VTIMEZONE
TZID:Europe/Berlin
BEGIN:DAYLIGHT
TZOFFSETFROM:+0100
TZOFFSETTO:+0200
TZNAME:CEST
DTSTART:20240331T010000
END:DAYLIGHT
BEGIN:STANDARD
TZOFFSETFROM:+0200
TZOFFSETTO:+0100
TZNAME:CET
DTSTART:20241027T010000
END:STANDARD
END:VTIMEZONE
BEGIN:VEVENT
DTSTART;TZID=Europe/Berlin:20240705T200000
DTEND;TZID=Europe/Berlin:20240705T213000
DTSTAMP:20260425T180459
CREATED:20240528T171335Z
LAST-MODIFIED:20240528T171335Z
UID:6244-1720209600-1720215000@halle424.de
SUMMARY:Chihiros Reise ins Zauberland- Simple Musik World
DESCRIPTION:Simple Music Ensemble World wird die Musik aus dem weltberühmten Anime von Hayao Miyazaki „Chihiros Reise ins Zauberland“ aufführen. \n„Chihiros Reise ins Zauberland“ ist ein Kultwerk des großen japanischen Geschichtenerzählers Hayao Miyazaki. Der erste Animationsfilm\, der mit dem Oscar für den besten abendfüllenden Animationsfilm ausgezeichnet wurde. Es ist die Geschichte eines kleinen Mädchens\, das sich in einer geheimnisvollen Welt wiederfindet. Um ihre Eltern zu retten\, muss Chihiro zahlreiche Herausforderungen meistern. \nMiyazakis Filme sind einzigartige Welten mit eigenen Regeln\, Philosophien und Ideen. Ein zentraler Teil seiner Kunst ist die magische Musik von Joe Hisaishi\, der als sein Co-Autor agiert. Hisaishi komponiert den Soundtrack parallel zur Filmproduktion\, basierend auf einer kurzen Beschreibung des Films. Er verwendet eine Vielzahl von Stilen\, von orchestralen Melodien bis hin zu fortschrittlicher japanischer Elektromusik der 80er Jahre. \nSimple Music Ensemble World wird die Melodien aufführen\, die unsere Zuhörer in Miyazakis magische Welt voller Magie und Verzauberung entführen. \nSimple Music Ensemble World ist eine Kammermusik-Community\, die Konzerte auf den besten Bühnen der Welt veranstaltet und professionelle Musiker aus verschiedenen Ländern vereint\, die ihre Arbeit aufrichtig lieben. Das Team ist vielseitig und entwickelt sich ständig weiter\, führt neue Ideen ein und erweitert die Grenzen seiner kreativen Tätigkeit.
URL:https://halle424.de/veranstaltung/chihiros-reise-ins-zauberland-simple-musik-world/
LOCATION:Halle 424\, Stockmeyerstr. 43\, Hamburg\, 20457\, Deutschland
CATEGORIES:Filmmusik
GEO:53.5424701;10.0088123
X-APPLE-STRUCTURED-LOCATION;VALUE=URI;X-ADDRESS=Halle 424 Stockmeyerstr. 43 Hamburg 20457 Deutschland;X-APPLE-RADIUS=500;X-TITLE=Stockmeyerstr. 43:geo:10.0088123,53.5424701
END:VEVENT
END:VCALENDAR