BEGIN:VCALENDAR
VERSION:2.0
PRODID:-//Halle 424 - ECPv5.1.6//NONSGML v1.0//EN
CALSCALE:GREGORIAN
METHOD:PUBLISH
X-WR-CALNAME:Halle 424
X-ORIGINAL-URL:https://halle424.de
X-WR-CALDESC:Veranstaltungen für Halle 424
BEGIN:VTIMEZONE
TZID:Europe/Berlin
BEGIN:DAYLIGHT
TZOFFSETFROM:+0100
TZOFFSETTO:+0200
TZNAME:CEST
DTSTART:20240331T010000
END:DAYLIGHT
BEGIN:STANDARD
TZOFFSETFROM:+0200
TZOFFSETTO:+0100
TZNAME:CET
DTSTART:20241027T010000
END:STANDARD
END:VTIMEZONE
BEGIN:VEVENT
DTSTART;TZID=Europe/Berlin:20241022T200000
DTEND;TZID=Europe/Berlin:20241022T220000
DTSTAMP:20260425T132256
CREATED:20240810T140813Z
LAST-MODIFIED:20240826T084614Z
UID:6354-1729627200-1729634400@halle424.de
SUMMARY:Kurt Rosenwinkel - The Next Step Band (US)
DESCRIPTION:https://www.youtube.com/watch?v=__4T4Yy6LWs \nProud to present the reunion concert of the legendary THE NEXT STEP Band:\n \nKurt Rosenwinkel\, guitar\nBen Wendel\, sax\nBen Street\, bass\nJeff Ballard\, drums \nEin verlorenes Tonband aus dem Jahr 1996 aus dem Smalls Jazz Club in New York bringt diese legendäre Band zurück auf die Bühne\, ein einzigartiges Ensemble\, das sich nach der Reunion Tour wieder auflösen wird. Der Besitzer des Clubs\, Mitch Borden\, erinnerte sich: „Kurt Rosenwinkel’s band played with such dramatic fire that it would consume everyone present“. Im Mai 2024 hat Kurt Rosenwinkels eigenes Label Heartcore Records eine Aufnahme des verlorenen Bandes veröffentlicht\, das den Auftritt der ursprünglichen „The Next Step Band“ im New Yorker Jazzclub Smalls im Jahr 1996 aufzeichnete. \nDas 2001 auf Verve Records veröffentlichte Album „The Next Step“ gilt als Meilenstein in Rosenwinkels kreativer Entwicklung und als Wendepunkt für den Modern Jazz. Jazz Times nominierte es als wichtigstes Album des Jahrzehnts. \nKurt Rosenwinkel steht seit fast drei Jahrzehnten als eine der ausgeprägtesten und prominentesten Stimmen an der Spitze des modernen Jazz. Der amerikanische Multiinstrumentalist\, Komponist und Produzent hat seit seinem ersten Auftritt in der New Yorker Musikszene 1991 internationale Anerkennung für seine Kunst und seinen ungebrochenen Individualismus erlangt. Sein Vermächtnis als herausragende Jazzgitarrenstimme seiner Generation zeigt sich deutlich auf seinen 19 Alben\, wo er als Leader auftritt. Jedes einzelne von ihnen inspiriert Musiker*innen auf der ganzen Welt. Dazu kommen ca. 150 Produktionen in denen er als Sideman engagiert ist. Zuviele Bands und Kooperation mit dem Who-is-Who der US und weltweiten Jazzszene\, um sie hier namentlich aufzuzählen. Kurt Rosenwinkel lebt seit kurzem in Berlin\, wo er zeitweilig auch am Berliner Jazz Institut lehrt. \nMit dabei in der Halle424 sind die Mitglieder der Originalband Ben Street am Bass und Jeff Ballard an den Drums\, beide ‚Jazz legends of their own‘. \nBen Street ist seit den 1990er Jahren eine feste Größe in der Welt des Kontrabasses und u.a. ein Schüler von Dave Holland. Er arbeitete mit Lee Konitz\, Sam Rivers\, Ben Monder\, Joey Calderazzo und Cindy Lauper zusammen. Zusammen mit Mark Turner und Ethan Iverson ist er als Mitglied in Billy Harts Quartett engagiert. Er ist auf mehr als 100 Tonträgern zu hören und ist Sieger des Downbeat Critics Poll 2020. \nDer Kalifornier Jeff Ballard hat mit den namhaftesten Künstlern des Modern Jazz aufgenommen oder sie auf Tourneen begleitet. Zu den illustren Weggefährten zählen Chick Corea\, Pat Metheny\, Joshua Redman\, Kurt Rosenwinkel. Derzeit arbeitet er mit dem Brad Mehldau Trio\, als Co-Leader der Gruppe Fly (mit Mark Turner und Larry Grenadier)\, und seinen eigenen Bands The Jazz Ballard Trio und Jeff Ballard Fairground. \nDer vierte im Bunde\, Mark Turner\, kann leider nicht dabei sein. Er wird vom in NYC lebenden kanadischen Saxophonisten Ben Wendel prominent vertreten. Wendel hat eine vielfältige Karriere als Musiker\, Komponist und Produzent aufzuweisen. Unter anderem arbeitete und tourte er mit Künstlern wie Tigran Hamasyan\, Bill Frisell\, Terence Blanchard\, Antonio Sanchez\, Gerald Clayton\, Taylor Eigsti\, Linda May Han Oh\, Moonchild\, Louis Cole\, Snoop Dogg und Prince. Ben ist Gründungsmitglied der für einen Grammy nominierten Band Kneebody. \nhttps://www.kurtrosenwinkel.com/ \nFür dieses Konzert erwarten wir ein volles Haus. Einmalig werden wir neben den üblichen Tickets auch ‚Group‘- oder ‚Familientickets‘ verkaufen für Gruppen von 4 Personen. Dieses Angebot ist limitiert.  \n  \n  \n 
URL:https://halle424.de/veranstaltung/kurt-rosenwinkel-the-next-step-band-us/
LOCATION:Halle 424\, Stockmeyerstr. 43\, Hamburg\, 20457\, Deutschland
CATEGORIES:Jazz Tracks424
ATTACH;FMTTYPE=image/png:https://halle424.de/wp-content/uploads/2024/08/Kurt-Rosenwinkel27597_byAleksKonc_ar-Kopie.png
ORGANIZER;CN="Halle424-Verein%20zur%20F%C3%B6rderung%20von%20Musik%20%20und%20Kultur%20im%20Oberhafen%20e.V.":MAILTO:halle424.ek@t-online.de
GEO:53.5424701;10.0088123
X-APPLE-STRUCTURED-LOCATION;VALUE=URI;X-ADDRESS=Halle 424 Stockmeyerstr. 43 Hamburg 20457 Deutschland;X-APPLE-RADIUS=500;X-TITLE=Stockmeyerstr. 43:geo:10.0088123,53.5424701
END:VEVENT
END:VCALENDAR