BEGIN:VCALENDAR
VERSION:2.0
PRODID:-//Halle 424 - ECPv5.1.6//NONSGML v1.0//EN
CALSCALE:GREGORIAN
METHOD:PUBLISH
X-WR-CALNAME:Halle 424
X-ORIGINAL-URL:https://halle424.de
X-WR-CALDESC:Veranstaltungen für Halle 424
BEGIN:VTIMEZONE
TZID:Europe/Berlin
BEGIN:DAYLIGHT
TZOFFSETFROM:+0100
TZOFFSETTO:+0200
TZNAME:CEST
DTSTART:20250330T010000
END:DAYLIGHT
BEGIN:STANDARD
TZOFFSETFROM:+0200
TZOFFSETTO:+0100
TZNAME:CET
DTSTART:20251026T010000
END:STANDARD
END:VTIMEZONE
BEGIN:VEVENT
DTSTART;TZID=Europe/Berlin:20250214T200000
DTEND;TZID=Europe/Berlin:20250214T220000
DTSTAMP:20260421T160237
CREATED:20241223T092943Z
LAST-MODIFIED:20250206T163914Z
UID:6558-1739563200-1739570400@halle424.de
SUMMARY:JT424: Lyssarides & Prokopiou -ARCS&RIVERS
DESCRIPTION:https://www.youtube.com/watch?time_continue=4&v=DHNu0NkjTlk&embeds_referring_euri=https%3A%2F%2Ftheactagency.com%2F&source_ve_path=Mjg2NjY \nJoel Lyssarides (piano) \nGeorgios Prokopiou (bouzouki) \nDie Aufnahmen des 1992 geborenen Pianisten gehören bereits jetzt zu den meistgehörten des europäischen Jazz. „Ich und mein Piano\, das ist Mittelpunkt meiner musikalischen Welt“\, so Lyssarides\, und von diesem Punkt aus\, geht die Reise in die verschiedensten Richtungen. Auf die Bühnen von Jazzclubs und -festivals\, ins Studio\, als Arrangeur\, u.a. für ABBAs Benny Anderson und auf Tourneen mit Jazz-\, Klassik-\, Blues- und Pop-Künstler*innen. Bereits 2023 begeisterte Joel mit seinem Jazz-Trio die Zuschauer in der Halle424. \nSo freuen wir uns sehr darüber\, jetzt ein ganz anderes Gesicht von Joel Lyssarides zu zeigen\, entstanden in einer besonderen Zusammenarbeit zwischen dem mehrfach preisgekrönten Pianisten und dem griechischen Bouzouki-Meister Georgios Prokopiou. Dieses Duo steht für die Verschmelung der unterschiedlichen Hintergründe der beiden Musiker aus schwedischer\, griechischer\, Jazz- und klassischer Musik zu einem mitreißenden Programm. Das erste Album des Duos wurde 2024 bei ACT veröffentlicht. \nJoel Lyssarides\, selbst Schwede mit griechischen Wurzeln\, erkundet gemeinsam mit Prokopiou die Wurzeln der historischen Bouzouki. Diese Variante einer Schalenhalslaute ist fest mit den Traditionen der griechischen Musik verwoben. Es brauchte den Umweg über Stockholm\, um die Jazzkarriere der Bouzouki zu entfalten. \nMit ihrem sensiblem Gespür und treffsicherer künstlerischer Intuition gelingt es beiden\, das Instrument in einem neuen\, zeitgenössischen Licht erstrahlen zu lassen. So entsteht ein beeindruckender Abend voller musikalischer Tiefe und emotionsgeladenen Klangbildern. \nFoto (c) Karl Gabor \n 
URL:https://halle424.de/veranstaltung/jt424-lyssarides-prokopiou-duet/
LOCATION:Halle 424\, Stockmeyerstr. 43\, Hamburg\, 20457\, Deutschland
CATEGORIES:Jazz Tracks424
ORGANIZER;CN="Halle424-Verein%20zur%20F%C3%B6rderung%20von%20Musik%20%20und%20Kultur%20im%20Oberhafen%20e.V.":MAILTO:halle424.ek@t-online.de
GEO:53.5424701;10.0088123
X-APPLE-STRUCTURED-LOCATION;VALUE=URI;X-ADDRESS=Halle 424 Stockmeyerstr. 43 Hamburg 20457 Deutschland;X-APPLE-RADIUS=500;X-TITLE=Stockmeyerstr. 43:geo:10.0088123,53.5424701
END:VEVENT
END:VCALENDAR