BEGIN:VCALENDAR
VERSION:2.0
PRODID:-//Halle 424 - ECPv5.1.6//NONSGML v1.0//EN
CALSCALE:GREGORIAN
METHOD:PUBLISH
X-WR-CALNAME:Halle 424
X-ORIGINAL-URL:https://halle424.de
X-WR-CALDESC:Veranstaltungen für Halle 424
BEGIN:VTIMEZONE
TZID:Europe/Berlin
BEGIN:DAYLIGHT
TZOFFSETFROM:+0100
TZOFFSETTO:+0200
TZNAME:CEST
DTSTART:20250330T010000
END:DAYLIGHT
BEGIN:STANDARD
TZOFFSETFROM:+0200
TZOFFSETTO:+0100
TZNAME:CET
DTSTART:20251026T010000
END:STANDARD
END:VTIMEZONE
BEGIN:VEVENT
DTSTART;TZID=Europe/Berlin:20250613T200000
DTEND;TZID=Europe/Berlin:20250613T220000
DTSTAMP:20260420T000147
CREATED:20250421T124236Z
LAST-MODIFIED:20250522T065440Z
UID:6717-1749844800-1749852000@halle424.de
SUMMARY:JT424: Sultan Stevenson (GB) - El Roi
DESCRIPTION:https://www.youtube.com/watch?v=vMav4K-eIYc&list=PL_6vIAm-i5pKUqIj1glh0QVPDQTtwqXw0&index=8 \nhttps://www.youtube.com/watch?v=L_WiusKjkQM (Interview mit Sultan Stevenson) \nSultan Stevenson (piano\, composition)\nJacob Gryn (bass)\nJoel Waters (drums)\n„His way of placing silences and making a simple four-note lick grow into something significant showed an incipient master at work“ The Telegraph \nDer Pianist Sultan Stevenson ist einer der gefragtesten jungen Künstler aus der Londoner Jazzszene\, und spätestens seit seinem Auftritt bei der Jazzahead 2024 nicht nur in Großbritannien\, sondern in ganz Europa. Nach dem fulminanten Launch seines zweiten eigenen Albums ‚El Roi‚ im prestigeträchtigen Purcell Room des South Bank Centre ist er jetzt auf Release Tour\, die ihn u.a. nach Prag\, Köln\, Warschau\, München\, Paris\, Sofia\, und die Halle424 in Hamburg führt. \n‚El Roi‘ heißt soviel wie ‚Gott sieht mich‘ und setzt sich mit Themen wie Glauben\, Spiritualität und Identität auseinander. Er zitiert  McCoy Tyner\, Kenny Kirkland\, Geri Allen und Jazzlegende Ahmad Jamal als seine Inspirationen\, aber der Pianist hat ein ganz eigenes Werk geschaffen\, voll überirdischer Energie. \nGerade mal 22 Jahre alt\, gewann Sultan – Sohn karibischer Einwanderer – bereits den ‚UK Parliamentary Award for Best Newcomer 2023‘\, gefolgt von einer Nominierung für den Jazz FM Ward 2025 in der Kategorie ‚Break Through Act‘. Schon als Teenager durfte Sultan von den besten lernen\, darunter Julian Joseph und Robert Mitchell\, bevor er 2023\, parallel zu seinem kometenhaften Aufstieg in der Musikszene\, ‚The Guildhall School of Music‘ mit Bravour abschloss. \nAuch optisch hat Sultan Stevenson bereits seinen ganz eigenen Stil entwickelt. Er trägt seinen charakteristischen ‚Bucket Hat‘ nicht nur auf und neben der Bühne\, sondern er entwirft und näht seine Hüte auch selbst! Das Design ist überwiegend von Westafrikanischen Mustern und Künstlern inspiriert\, die Sultan bewundert. Wenn wir Glück haben\, bringt er nicht nur CDs sondern auch einige seiner Hüte mit\, die ihr dann bei uns erwerben könnt. \nhttps://www.sultanstevenson.co.uk
URL:https://halle424.de/veranstaltung/jt424-sultan-stevenson-gb-el-roi/
LOCATION:Halle 424\, Stockmeyerstr. 43\, Hamburg\, 20457\, Deutschland
CATEGORIES:Jazz Tracks424
ATTACH;FMTTYPE=image/jpeg:https://halle424.de/wp-content/uploads/2025/04/FFP21709.jpg
ORGANIZER;CN="Halle424-Verein%20zur%20F%C3%B6rderung%20von%20Musik%20%20und%20Kultur%20im%20Oberhafen%20e.V.":MAILTO:halle424.ek@t-online.de
GEO:53.5424701;10.0088123
X-APPLE-STRUCTURED-LOCATION;VALUE=URI;X-ADDRESS=Halle 424 Stockmeyerstr. 43 Hamburg 20457 Deutschland;X-APPLE-RADIUS=500;X-TITLE=Stockmeyerstr. 43:geo:10.0088123,53.5424701
END:VEVENT
END:VCALENDAR