BEGIN:VCALENDAR
VERSION:2.0
PRODID:-//Halle 424 - ECPv5.1.6//NONSGML v1.0//EN
CALSCALE:GREGORIAN
METHOD:PUBLISH
X-WR-CALNAME:Halle 424
X-ORIGINAL-URL:https://halle424.de
X-WR-CALDESC:Veranstaltungen für Halle 424
BEGIN:VTIMEZONE
TZID:Europe/Berlin
BEGIN:DAYLIGHT
TZOFFSETFROM:+0100
TZOFFSETTO:+0200
TZNAME:CEST
DTSTART:20250330T010000
END:DAYLIGHT
BEGIN:STANDARD
TZOFFSETFROM:+0200
TZOFFSETTO:+0100
TZNAME:CET
DTSTART:20251026T010000
END:STANDARD
END:VTIMEZONE
BEGIN:VEVENT
DTSTART;TZID=Europe/Berlin:20250827T180000
DTEND;TZID=Europe/Berlin:20250827T190000
DTSTAMP:20260419T210940
CREATED:20250822T083856Z
LAST-MODIFIED:20250822T083857Z
UID:6913-1756317600-1756321200@halle424.de
SUMMARY:Dialog Feierabendkonzert in der 424
DESCRIPTION:Musik von CPE Bach trifft auf Leos Janáceks großartige Violinsonate. \nEin Dialog\, der ein bewegendes Konzerterlebnis verspricht. \n\nJuditha Haeberlin\, Violine\nFranck-Thomas Link\, Klavier
URL:https://halle424.de/veranstaltung/dialog-feierabendkonzert-in-der-424/
LOCATION:Halle 424\, Stockmeyerstr. 43\, Hamburg\, 20457\, Deutschland
ORGANIZER;CN="Hamburger%20Kammerkunstverein":MAILTO:tickets@kammerkunst.de
GEO:53.5424701;10.0088123
X-APPLE-STRUCTURED-LOCATION;VALUE=URI;X-ADDRESS=Halle 424 Stockmeyerstr. 43 Hamburg 20457 Deutschland;X-APPLE-RADIUS=500;X-TITLE=Stockmeyerstr. 43:geo:10.0088123,53.5424701
END:VEVENT
END:VCALENDAR