BEGIN:VCALENDAR
VERSION:2.0
PRODID:-//Halle 424 - ECPv5.1.6//NONSGML v1.0//EN
CALSCALE:GREGORIAN
METHOD:PUBLISH
X-WR-CALNAME:Halle 424
X-ORIGINAL-URL:https://halle424.de
X-WR-CALDESC:Veranstaltungen für Halle 424
BEGIN:VTIMEZONE
TZID:Europe/Berlin
BEGIN:DAYLIGHT
TZOFFSETFROM:+0100
TZOFFSETTO:+0200
TZNAME:CEST
DTSTART:20250330T010000
END:DAYLIGHT
BEGIN:STANDARD
TZOFFSETFROM:+0200
TZOFFSETTO:+0100
TZNAME:CET
DTSTART:20251026T010000
END:STANDARD
END:VTIMEZONE
BEGIN:VEVENT
DTSTART;TZID=Europe/Berlin:20250905T200000
DTEND;TZID=Europe/Berlin:20250905T220000
DTSTAMP:20260419T194534
CREATED:20250708T135718Z
LAST-MODIFIED:20250804T140611Z
UID:6845-1757102400-1757109600@halle424.de
SUMMARY:JT424: daoud (F)
DESCRIPTION:daoud\ndaoud (trumpet) \nThomas Perier (keyboards) \nQuentin Braine (drums) \nLouis Navarro (double bass) \ndaoud\, das Sorgenkind des Jazz\, das sich weigert\, nach den Regeln des Jazz zu spielen\, stellt sich eine Musik vor\, die von einem Gefühl der Unzulänglichkeit angetrieben wird – eine Musik\, die Konventionen bricht\, ohne um Zustimmung zu buhlen\, und die sowohl neugierige Neulinge als auch erfahrene Puristen gleichermaßen anspricht. \nSein Werk ist von einer anhaltenden Spannung geprägt: zwischen Verspieltheit und Ernsthaftigkeit\, Chaos und Zärtlichkeit\, Ironie und Aufrichtigkeit. Mit „ok“\, seinem kommenden Album\, das 2025 bei ACT erscheinen wird\, liefert er ein persönliches Manifest\, das von Zusammenbruch und Wiederholung geprägt ist – aber auch von der Beharrlichkeit\, die nötig ist\, um neu anzufangen. \nUm die Musik herum schafft der Künstler ein rohes visuelles Universum\, das ebenso von Provokation wie von jugendlicher Unbekümmertheit geprägt ist\, eine Rückkehr in die Kindheit\, nicht um Trost zu finden\, sondern um Widersprüche aufzudecken. Fragilität\, Vergänglichkeit\, Satire – seine Ästhetik umarmt den Makel\, anstatt ihn zu verbergen. \nAuf der Bühne brechen daoud und seine Band die Regeln mit einer Mischung aus zurückhaltender Lyrik und explosiver Kraft. Seit der Veröffentlichung von „GOOD BOY“ im Jahr 2024\, das von Kritikern gelobt wurde\, haben sie eine Reihe ausverkaufter Shows und herausragender Auftritte gespielt\, vom Ronnie Scott’s in London bis zum Montreux Jazz Festival\, mit einem Zwischenstopp in Marciac. Gleichzeitig komponiert und produziert daoud für andere\, ohne jemals seinen persönlichen Ansatz aufzugeben\, der immer freier und kompromissloser wird. \n„Rücksichtslose Haltung […] ohne ihre Poesie zu verlieren“ – Jazznytt (Norwegens führendes Jazzmagazin) \n„Schöner Groove\, toller Sound und tolle Ideen!“ – Pamela Fleming (New Yorker Trompetenlegende) \nDas Album wurde von TSF Jazz\, dem bedeutendsten französischen Jazzsender\, als eines der Top-Alben 2024 gekürt. Diese Anerkennung markiert einen großen Schritt auf daoud’s Reise zu neuen musikalischen Experimenten und Abenteuern auf den Bühnen der Welt. \n(c) Younes Fahri
URL:https://halle424.de/veranstaltung/jt424-daoud-good-boy-f/
LOCATION:Halle 424\, Stockmeyerstr. 43\, Hamburg\, 20457\, Deutschland
CATEGORIES:Jazz Tracks424
ATTACH;FMTTYPE=image/jpeg:https://halle424.de/wp-content/uploads/2025/07/daoud_web5.jpg
ORGANIZER;CN="Halle424-Verein%20zur%20F%C3%B6rderung%20von%20Musik%20%20und%20Kultur%20im%20Oberhafen%20e.V.":MAILTO:halle424.ek@t-online.de
GEO:53.5424701;10.0088123
X-APPLE-STRUCTURED-LOCATION;VALUE=URI;X-ADDRESS=Halle 424 Stockmeyerstr. 43 Hamburg 20457 Deutschland;X-APPLE-RADIUS=500;X-TITLE=Stockmeyerstr. 43:geo:10.0088123,53.5424701
END:VEVENT
END:VCALENDAR