BEGIN:VCALENDAR
VERSION:2.0
PRODID:-//Halle 424 - ECPv5.1.6//NONSGML v1.0//EN
CALSCALE:GREGORIAN
METHOD:PUBLISH
X-WR-CALNAME:Halle 424
X-ORIGINAL-URL:https://halle424.de
X-WR-CALDESC:Veranstaltungen für Halle 424
BEGIN:VTIMEZONE
TZID:Europe/Berlin
BEGIN:DAYLIGHT
TZOFFSETFROM:+0100
TZOFFSETTO:+0200
TZNAME:CEST
DTSTART:20250330T010000
END:DAYLIGHT
BEGIN:STANDARD
TZOFFSETFROM:+0200
TZOFFSETTO:+0100
TZNAME:CET
DTSTART:20251026T010000
END:STANDARD
END:VTIMEZONE
BEGIN:VEVENT
DTSTART;TZID=Europe/Berlin:20250926T200000
DTEND;TZID=Europe/Berlin:20250926T223000
DTSTAMP:20260419T194633
CREATED:20250724T144121Z
LAST-MODIFIED:20250804T141319Z
UID:6860-1758916800-1758925800@halle424.de
SUMMARY:JT424: Young European Trumpets D/PL - BÄNSCH & MISZK
DESCRIPTION:https://www.youtube.com/watch?v=co6MLhcgzjY&list=RDco6MLhcgzjY&start_radio=1 \nhttps://www.youtube.com/watch?v=oTMk2fLH1aU \nIn unserer neuen Reihe ‚Young European Jazz Talents‚ stellen wir jeweils zwei junge Bands vor\, davon eine aus Deutschland\, die andere aus dem Europäischen Ausland. ‚YOUNG EUROPEAN TRUMPETS ist das zweite Doppelkonzert in dieser Reihe. \nEingeladen haben wir die jungen Trompeter Jakob Bänsch aus Deutschland und Emil Miszk aus Polen. Jakob Bänsch kommt mit seinem Quartett\, mit dem er bisher 2 Alben aufgenommen hat\, zuletzt ALL THE OTHERS. Emil Miszk kommt mit seinem Septett THE SONIC SYNDICATE. Was beide verbindet ist u.a.\, dass sie auch starke Komponisten sind\, jedoch mit sehr unterschiedlichen Wurzeln und Ambitionen. \nDer preisgekrönte Trompeter und Komponist Jakob Bänsch gehört zu den Rising Stars der europäischen Jazzszene. Die London Jazz News schreiben seiner Musik eine „mezmering\, Bach-like intensity“ zu\, während er vom berühmten New Yorker Jazzkritiker Bill Milkowski bereits mit dem jungen Wynton Marsalis verglichen wird. Sein Debütalbum Opening wurde u.a. mit dem Deutschen Jazzpreis 2024 als „Debütalbum des Jahres“ ausgezeichnet. Im Februar 2025 legte er mit seinem zweiten All The Others nach\, welches klassische Musik\, modernen Jazz sowie Anklänge aus dem Folk miteinander kombiniert. \nAls Sohn klassischer Musiker bei Pforzheim aufgewachsen genoss er bereits in jungen Jahren sowohl eine klassische- als auch eine Jazzausbildung und war gleichzeitig im Landesjugendorchester sowie Landesjugendjazzorchester Baden-Württemberg Mitglied. 2020 wurde er eines der jüngsten Mitglieder des Bundesjazzorchester seit seiner Gründung.\nMit seinen eigenen Bands spielte er bereits in den renommiertesten Jazz-Locations und Festivals Deutschlands (z.B. Leverkusener Jazztage\, Jazz Baltica\, JazzOpen Stuttgart uvm.) und arbeitete mit internationalen Jazzgrößen wie Nathan East\, Nils Landgren\,Wolfgang Haffner\, Emil Mangelsdorff\, Michael Abene und als Solist mit der WDR Big-Band zusammen.\nAls Komponist wurde Bänsch u.a. an der HfMT Köln\, als Stipendiat beim WDR Composers Fellowship Programm sowie bei der Elbphilharmonie Jazz-Academy ausgebildet. \nSein Instrument sieht er als ‚Mittel zum Zweck‘ um berührende Musik zu kreieren. „It wasn’t my plan to appear mostly as a young trumpet virtuoso but rather as a creator of touching music. So for me\, the trumpet is just a small tool that serves the greater whole — the music.” \nSeine Kompositionen finden ihre größten Inspirationsquellen in der klassischen Musik um 1900 (z.B. Maurice Ravel\, Claude Debussy\, Alexander Scriabin) sowie im Modern Jazz der 1960er/70er Jahre (Wayne Shorter\, Herbie Hancock u.a.) und kreieren aus diesem Mix einen unverwechselbaren Sound\, gespickt von Lyrik\, symphonischer Dramaturgie\, epischer Intensität und Virtuosität.\n„Sakrisch gut und höllisch begabt: Jakob Bänsch ist ein erstaunliches Debüt gelungen\, musikalisch mitten in der Tradition des kunstvoll modernen Jazz und zugleich unabhängig von dessen gewohnten Mythenschwurbel.“ – Süddeutsche Zeitung \nDem Künstler Emil Miszk wird eine ungewöhnliche Sensivität zugeschrieben\, wenn er die Grenzen zwischen Tradition und Innovation im Jazz\, sowie Improvisierter Musik erforscht. Als Trompeter und Vertreter improvisierter Kunst verbindet er ein tiefes Verständnis klassischer Formate mit gewagten Ausflügen in freie Improvisationen. Seine Musik ist ein Laboratorium wo sich anscheinend widersprüchliche Ideen zu Kompositionen voller Spannung und unerwarteten Lösungen verbinden. \nMit seinem 2017 gegründeten Oktett Emil Miszk & The Sonic Syndicate hat er 3 Alben aufgenommen: Don’t Hesitate! (2018)\, Artificial Stupidity (2020)\, and Scratches for 8 Musicians – Live at Polish Radio (2022). All diese Veröffentlichungen wurden mit großem Beifall von Kritikern und Zuhörern bedacht. Jeder Auftritt ist ein starkes Erlebnis – ein seltenes Zusammentreffen von Persönlichkeiten\, deren on-stage Chemie jedes Konzert in eine wahre Feier verwandelt. Die Band kanalisiert Miszks musikalische Passion\, von Big-Band Traditionen zu Intuitiver Musik und Free Jazz\, inspiriert von Visionären wie Frank Zappa und Gard Nilssen\, aber auch Barry Guy und Glenn Miller. \n2019 erhielt Miszk Polens wichtigsten Musikpreis\, den Fryderyk\, von der Polish Phonographic Academy für das Jazz Debut of the Year mit Don’t Hesitate!. Seitdem wurde er mit seinen diversen Projekten schon 6 mal in der Kategorie Jazz Album of the Year  nominiert. \nEmil Miszk ist ein unruhiger und neugieriger Geist\, der ständig auf der Suche nach neuen Inspirationen ist und nach Wegen\, diese in seiner Musik auszudrücken. Sein Ansporn sind seine tiefe Leidenschaft für Musik und sein stetes Streben nach künstlerischer Exzellenz. \nhttps://www.jakobbaensch.com/ \nhttps://www.en.emilmiszk.com/ \nFotos: Lena Semmelroggen; Sisi Cecylia \nWir bedanken uns bei der Claussen-Simon-Stiftung für die Förderung unserer neuen Jazzreihe ‚Young European Jazz Talents‘.
URL:https://halle424.de/veranstaltung/jt424-young-european-trumpets-d-pl-baensch-miszk/
LOCATION:Halle 424\, Stockmeyerstr. 43\, Hamburg\, 20457\, Deutschland
CATEGORIES:Jazz Tracks424
ORGANIZER;CN="Halle424-Verein%20zur%20F%C3%B6rderung%20von%20Musik%20%20und%20Kultur%20im%20Oberhafen%20e.V.":MAILTO:halle424.ek@t-online.de
GEO:53.5424701;10.0088123
X-APPLE-STRUCTURED-LOCATION;VALUE=URI;X-ADDRESS=Halle 424 Stockmeyerstr. 43 Hamburg 20457 Deutschland;X-APPLE-RADIUS=500;X-TITLE=Stockmeyerstr. 43:geo:10.0088123,53.5424701
END:VEVENT
END:VCALENDAR