BEGIN:VCALENDAR
VERSION:2.0
PRODID:-//Halle 424 - ECPv5.1.6//NONSGML v1.0//EN
CALSCALE:GREGORIAN
METHOD:PUBLISH
X-WR-CALNAME:Halle 424
X-ORIGINAL-URL:https://halle424.de
X-WR-CALDESC:Veranstaltungen für Halle 424
BEGIN:VTIMEZONE
TZID:Europe/Berlin
BEGIN:DAYLIGHT
TZOFFSETFROM:+0100
TZOFFSETTO:+0200
TZNAME:CEST
DTSTART:20250330T010000
END:DAYLIGHT
BEGIN:STANDARD
TZOFFSETFROM:+0200
TZOFFSETTO:+0100
TZNAME:CET
DTSTART:20251026T010000
END:STANDARD
END:VTIMEZONE
BEGIN:VEVENT
DTSTART;TZID=Europe/Berlin:20250928T193000
DTEND;TZID=Europe/Berlin:20250928T210000
DTSTAMP:20260419T194527
CREATED:20250922T081651Z
LAST-MODIFIED:20250922T081652Z
UID:6958-1759087800-1759093200@halle424.de
SUMMARY:MONEY DOUGH Hamburg Contemporary
DESCRIPTION:Vom 26. bis 28. September 2025 steht die HfMT ganz im Zeichen der zeitgenössischen Musik: Hamburg Contemporary präsentiert drei herausragende Konzerte\, die neue Klangräume öffnen. Das Ensemble RADAR Quartett spielt am 28.9. im dritten und finalen Konzert in der Halle 424 Uraufführungen von Kompositionsstudierenden der HfMT Hamburg. Der Abend entpuppt sich dabei zu einem regelrechten Miniaturenwunderland – viele kurze Lieder ohne Wörter werden von dem Quartett dargeboten. \nDie diesjährige thematische Klammer „MONEY DOUGH“ greift konzeptionell ein brisantes Thema auf: Angesichts zunehmender Kürzungen in der Kulturförderung will Hamburg Contemporary ein musikalisches Zeichen setzen – laut\, wach und unüberhörbar. Kunst ist kein Luxus\, sondern Notwendigkeit. Lasst uns musizieren\, als sei es das letzte Konzert – damit viele weitere folgen können. \nUnser Dank gilt der ZEIT-Stiftung Ebelin und Gerd Bucerius sowie der Ulysses Platform und der Gerhard Trede Stiftung\, die mit ihrer Unterstützung ein deutliches Zeichen gegen den kulturpolitischen Sparkurs setzen – und für die Zukunft der zeitgenössischen Musik. \nProgramm: \nUraufführungen und Werke von Studierenden der Kompositionsklassen der HfMT Hamburg: \nEunhye Joo\nNina Deuse\nFelix Tetz\nAndrea Scalmana\nXiaohan Xue\nMarta K. Kowalczuk\nIgor Andric\nKyungjin Lim\nMinji Seo\nShuang Wu \nEs musizieren: RADAR Quartett \nFlavio Virzi | Gitarre\nArian Robinson Abdollahi | Drums \nNinon Gloger | Klavier \nJohn Eckhardt | Kontrabass
URL:https://halle424.de/veranstaltung/money-dough-hamburg-contemporary/
LOCATION:Halle 424\, Stockmeyerstr. 43\, Hamburg\, 20457\, Deutschland
CATEGORIES:Jazz
GEO:53.5424701;10.0088123
X-APPLE-STRUCTURED-LOCATION;VALUE=URI;X-ADDRESS=Halle 424 Stockmeyerstr. 43 Hamburg 20457 Deutschland;X-APPLE-RADIUS=500;X-TITLE=Stockmeyerstr. 43:geo:10.0088123,53.5424701
END:VEVENT
END:VCALENDAR