BEGIN:VCALENDAR
VERSION:2.0
PRODID:-//Halle 424 - ECPv5.1.6//NONSGML v1.0//EN
CALSCALE:GREGORIAN
METHOD:PUBLISH
X-WR-CALNAME:Halle 424
X-ORIGINAL-URL:https://halle424.de
X-WR-CALDESC:Veranstaltungen für Halle 424
BEGIN:VTIMEZONE
TZID:Europe/Berlin
BEGIN:DAYLIGHT
TZOFFSETFROM:+0100
TZOFFSETTO:+0200
TZNAME:CEST
DTSTART:20260329T010000
END:DAYLIGHT
BEGIN:STANDARD
TZOFFSETFROM:+0200
TZOFFSETTO:+0100
TZNAME:CET
DTSTART:20261025T010000
END:STANDARD
END:VTIMEZONE
BEGIN:VEVENT
DTSTART;TZID=Europe/Berlin:20260117T200000
DTEND;TZID=Europe/Berlin:20260117T220000
DTSTAMP:20260419T143202
CREATED:20251126T110155Z
LAST-MODIFIED:20260109T120542Z
UID:7087-1768680000-1768687200@halle424.de
SUMMARY:ABGESAGT -JT424: MORITZ STAHL
DESCRIPTION:Leider müssen wir das Konzert am 17.1. 26 absagen. Wir bemühen uns derzeit um einen neuen Termin. Die Rückabwicklung für Ticketkäufer erfolgt über Eventim. Eventuell anfallende Stornogebühren erstatten wir Ihnen. Nachrichten bitte an halle424.ek@t-online.de. Danke. \nMoritz Stahl – saxophone \nMarie Krüttli – piano\, synth \nEtienne Renard – bass \nSun-Mi Hong – drums \nMORITZ STAHL und seine international besetzte Band TRANSIENT BODIES gehen ins kalkulierte Risiko\, indem sie den undefinierten Spielraum zwischen dem Wimpernschlag eines Augenblicks und der Ausdehnung der Ewigkeit erkunden. Der Saxofonist und Komponist Moritz Stahl vermeidet stilistische Festlegungen und öffnet sich für das Unerwartete\, das er stets mit spielerischer Intensität\, konzeptioneller Neugier und komplett egobefreiter Expressivität ausfüllt. Jedes Album\, jedes Konzept\, jede Band ist eine Neuauslegung seiner musikalischen Persönlichkeit. Greifbar ist bei all diesen Unternehmungen der Drang\, sich selbst konsequent in Frage zu stellen und das Errungene loszulassen\, weil hinter dem Horizont schon die nächste Herausforderung wartet. Moritz nimmt seine Hörer dorthin mit. \nSo hat Moritz für seine Band Transient Bodies drei Musikerpersönlichkeiten eingeladen\, mit denen er noch nie gespielt hat. An der schweizerischen Pianistin Marie Kruttli schätzt er den vorbehaltlosen Umgang mit elektronischer wie akustischer Musik. Den französischen Bassisten Etienne Renard lernte Stahl vor zehn Jahren kennen\, hatte aber noch nie Gelegenheit\, mit ihm zu spielen. Die koreanische Schlagzeugerin Sun-Mi Hong komplettiert das Quartett mit ihrem schier unbegrenzten Spektrum an rhythmischen Timbres. \n„Seinem Grundcharakter entsprechend ist Transient Bodies ein akustisches Quartett\, das aber elektronische Elemente organisch einwebt. Das Momentum in ein und demselben Augenblick gleichzeitig loszulassen und festzuhalten – das ist die große Kunst von Moritz Stahl und Transient Bodies.“ (Wolf Kampmann)  \nDer warme\, reife Sound des Saxofonisten und Komponisten Moritz Stahl ist unverwechselbar. Moritz zählt zu den spannendsten Stimmen seiner Generation. Früh entdeckt und gefördert\, tourte er mit dem Landesjugendjazzorchester Bayern und später dem Bundesjazzorchester bereits durch Asien\, Südamerika und Russland\, bevor er an der HMT München Jazz studierte. Noch währenddessen erhielt er den Kurt-Maas-Jazz Award und den Bayerischen Kunstförderpreis. \nStahls musikalisches Spektrum reicht von traditionellem Jazz bis zu zeitgenössischen Strömungen\, von progressiven Konzepten bis zu elektronischen Experimenten. Diese Vielfalt prägt auch die Projekte\, in denen er aktiv ist – darunter das Electronic Alternative Jazz-Kollektiv Ark Noir\, das Munich Composer Collective Fiona Grond Interspaces\, das Luca Zambito Quartett und nicht zuletzt die international gefeierte Jazzrausch Bigband. \nIm März 2023 veröffentlichte Stahl sein Debutalbum »Traumsequenz« auf dem Schweizer Label Unit Records. Das Werk sorgte international für Aufsehen und markierte einen wichtigen künstlerischen Meilenstein in seinem Schaffen. Mit Transient Bodies knüpft er an diesen großen Erfolg an. \n 
URL:https://halle424.de/veranstaltung/jt424-moritz-stahl-transient-bodies/
LOCATION:Halle 424\, Stockmeyerstr. 43\, Hamburg\, 20457\, Deutschland
CATEGORIES:Jazz Tracks424
ORGANIZER;CN="Halle424-Verein%20zur%20F%C3%B6rderung%20von%20Musik%20%20und%20Kultur%20im%20Oberhafen%20e.V.":MAILTO:halle424.ek@t-online.de
GEO:53.5424701;10.0088123
X-APPLE-STRUCTURED-LOCATION;VALUE=URI;X-ADDRESS=Halle 424 Stockmeyerstr. 43 Hamburg 20457 Deutschland;X-APPLE-RADIUS=500;X-TITLE=Stockmeyerstr. 43:geo:10.0088123,53.5424701
END:VEVENT
END:VCALENDAR