BEGIN:VCALENDAR
VERSION:2.0
PRODID:-//Halle 424 - ECPv5.1.6//NONSGML v1.0//EN
CALSCALE:GREGORIAN
METHOD:PUBLISH
X-WR-CALNAME:Halle 424
X-ORIGINAL-URL:https://halle424.de
X-WR-CALDESC:Veranstaltungen für Halle 424
BEGIN:VTIMEZONE
TZID:Europe/Berlin
BEGIN:DAYLIGHT
TZOFFSETFROM:+0100
TZOFFSETTO:+0200
TZNAME:CEST
DTSTART:20260329T010000
END:DAYLIGHT
BEGIN:STANDARD
TZOFFSETFROM:+0200
TZOFFSETTO:+0100
TZNAME:CET
DTSTART:20261025T010000
END:STANDARD
END:VTIMEZONE
BEGIN:VEVENT
DTSTART;TZID=Europe/Berlin:20260529T200000
DTEND;TZID=Europe/Berlin:20260529T220000
DTSTAMP:20260419T142745
CREATED:20260324T095910Z
LAST-MODIFIED:20260324T103938Z
UID:7270-1780084800-1780092000@halle424.de
SUMMARY:JT424: Joel Frahm Trio - LUMINATION
DESCRIPTION:https://www.youtube.com/watch?v=9Tl1ypvizJ4 \nJoel Frahm (sax) \nDan Loomis (bass) \nErnesto Cervini (drums) \nJoel Frahm ist einer der weltweit versiertesten Saxophonisten\, der zu Beginn seiner Karriere durch einen Stil auffiel\, der an Johnny Griffin erinnerte\, und später für seine Arbeit in der Band der Sängerin Jane Monheit sowie für Kooperationen mit Musikern wie Brad Mehldau und Ari Hoenig gelobt wurde. Sein kühner\, einfallsreicher Tenorsaxophon-Sound hat ihm Fans in den USA und auf der ganzen Welt eingebracht. Nach 30 Jahren in der New Yorker Szene verbrachte er auch einige Jahre im musikalischen Meltingpot Nashville. Er schien sich jedoch lange am wohlsten zu fühlen\, wenn er als hochkarätiger Begleitmusiker auftrat\, worüber er in einem Interview (London Jazz News 2021) offen sprach: \n„Ich war nie wirklich ein Bandleader – zumindest nicht über die lokalen Auftritte hinaus\, die ich in New York spielte. Ein Bandleader zu werden im Sinne von Tourneen\, eigenen Kompositionen und dem Erlernen\, dies in größerem Rahmen zu tun\, das kam erst etwas später und war anfangs nie meine Stärke.“ \nThema dieses Interviews war das erste Album des Trios „The Bright Side“\, das er im stolzen Alter von 51 Jahren veröffentlichts. „Lumination“ knüpft mit zehn Eigenkompositionen an viele der besten Elemente von „The Bright Side“ an. Vor allem aber ist es das Spiel\, das „Lumination“ zu etwas Besonderem macht. Frahm ist ein außergewöhnlicher Techniker an seinem Instrument\, doch ebenso beeindruckend ist\, wie er seine Ideen während der Improvisationen entwickelt: eine Meisterklasse in motivischer Entwicklung\, Zitate sind zu einem Markenzeichen seiner Soli geworden. Diese Art von Gimmick wurde von Sonny Rollins mit maximaler Wirkung eingesetzt\, doch Frahm ist zweifellos der moderne Meister. Das Spiel von Cervini und Loomis passt perfekt zum Saxophonisten. Die Jungs klingen immer so\, als hätten sie Spaß. Sie schaffen eine großartige Stimmung\, die es den Zuhörern erleichtert\, sich selbst mit so anspruchsvollem Spiel wie auf diesem Album zu identifizieren. Joel Frahm und sein Trio haben eine herausragende gemeinsame Stimme entwickelt\, und nun ein weiteres Album\, das dies beweist. \nFrahm hat außerdem als Lehrer an den besten US-Universitäten einen Namen gemacht\, hat dort unzählige Workshops gegeben\, und ist Mitglied der Musikfakultät der Texas State University. Er war außerdem beim „Next Generation“-Programm des Monterey Jazz Festivals tätig. \nfoto’s © Patrick Van Vlerken
URL:https://halle424.de/veranstaltung/jt424-joel-frahm-trio-lumination/
LOCATION:Halle 424\, Stockmeyerstr. 43\, Hamburg\, 20457\, Deutschland
CATEGORIES:Jazz Tracks424
ATTACH;FMTTYPE=image/png:https://halle424.de/wp-content/uploads/2026/03/Screenshot-2026-03-24-at-10-03-22-Press-kit.png
ORGANIZER;CN="Halle424-Verein%20zur%20F%C3%B6rderung%20von%20Musik%20%20und%20Kultur%20im%20Oberhafen%20e.V.":MAILTO:halle424.ek@t-online.de
GEO:53.5424701;10.0088123
X-APPLE-STRUCTURED-LOCATION;VALUE=URI;X-ADDRESS=Halle 424 Stockmeyerstr. 43 Hamburg 20457 Deutschland;X-APPLE-RADIUS=500;X-TITLE=Stockmeyerstr. 43:geo:10.0088123,53.5424701
END:VEVENT
END:VCALENDAR