BEGIN:VCALENDAR
VERSION:2.0
PRODID:-//Halle 424 - ECPv5.1.6//NONSGML v1.0//EN
CALSCALE:GREGORIAN
METHOD:PUBLISH
X-WR-CALNAME:Halle 424
X-ORIGINAL-URL:https://halle424.de
X-WR-CALDESC:Veranstaltungen für Halle 424
BEGIN:VTIMEZONE
TZID:Europe/Berlin
BEGIN:DAYLIGHT
TZOFFSETFROM:+0100
TZOFFSETTO:+0200
TZNAME:CEST
DTSTART:20260329T010000
END:DAYLIGHT
BEGIN:STANDARD
TZOFFSETFROM:+0200
TZOFFSETTO:+0100
TZNAME:CET
DTSTART:20261025T010000
END:STANDARD
END:VTIMEZONE
BEGIN:VEVENT
DTSTART;TZID=Europe/Berlin:20260626T080000
DTEND;TZID=Europe/Berlin:20260626T220000
DTSTAMP:20260419T154415
CREATED:20260326T153022Z
LAST-MODIFIED:20260326T155354Z
UID:7283-1782460800-1782511200@halle424.de
SUMMARY:JT424: Keno Harriehausen 4tet - THERE FOR YOU
DESCRIPTION:https://www.youtube.com/watch?v=O3JdWg6hHZ0&t=124s \nhttps://www.youtube.com/watch?v=C1iJdDanSsI&t=91s \nKārlis Auziņš (LV) – Saxofon\nMaya Fridman (NL) – Violoncello\nThomas Kolarczyk (DE/PL) – Kontrabass\nKeno Harriehausen (DE) – Piano & Komposition \nNach 4 Jahren kehrt der Pianist und Komponist KENO HARRIEHAUSEN\, ein echter Grenzgänger zwischen den Welten des Jazz und der Klassik mit einem neuen Programm auf unsere Konzertbühne zurück. THERE FOR YOU ist nicht nur das ausgereifteste sondern wohl auch das persönlichste seiner bisherigen Projekte\, entstanden in einer harten Zeit\, einer existentiellen Krisensituation für seine kleine Familie. Aber gerade dann hat er er auch die Unterstützug erlebt\, das Zusammenrücken der Menschen um ihn herum\, die wir uns alle wünschedn\, nicht nur in schwierigen Zeiten. \nEine ausführliche Rezension des Albums von Wolf Kampmann findet Ihr unter https://kenoharriehausen.com/there-for-you/ Dem haben wir nichts hinzuzufügen. \n„Mit Keno ist es so ein Wow-Effekt. Er hat eine Vision! Er möchte gerne die Genren zusammenbauen\, aber total grenzenlos\, ohne dass man das eigentlich merkt. Er ist einfach jemand\, der die Musik liebt.“\n– Nils Landgren \n„Klangwelten verbinden sich erfolgreich im Keno Harriehausen Quartet – ein neuer Vorschlag für die oft knifflige Überbrückung des Kammerjazz… eine Gruppe exzellenter Musikerinnen und Musiker.“\n– Downbeat\, Josef Woodard \n„Musik mit ungeheurer Sogwirkung… “\n– ZDF Kultur \n„Die Musik verströmt einen großen Sog und einen großen Zauber…“\n– Deutschlandfunk Kultur\, Matthias Wegner \nZum Reinhören: Keno Harriehausen wird am 24.6.\, 13 Uhr ein Solo-Konzert im NDR Studio geben\, bei Kultur Extra.
URL:https://halle424.de/veranstaltung/jt424-keno-harriehausen-there-for-you/
LOCATION:Halle 424\, Stockmeyerstr. 43\, Hamburg\, 20457\, Deutschland
CATEGORIES:Jazz Tracks424
ATTACH;FMTTYPE=image/jpeg:https://halle424.de/wp-content/uploads/2026/03/2025-04-04_Keno-Harriehausen_Foto_Dovile-Sermokas-E36A8703.jpg
ORGANIZER;CN="Halle424-Verein%20zur%20F%C3%B6rderung%20von%20Musik%20%20und%20Kultur%20im%20Oberhafen%20e.V.":MAILTO:halle424.ek@t-online.de
GEO:53.5424701;10.0088123
X-APPLE-STRUCTURED-LOCATION;VALUE=URI;X-ADDRESS=Halle 424 Stockmeyerstr. 43 Hamburg 20457 Deutschland;X-APPLE-RADIUS=500;X-TITLE=Stockmeyerstr. 43:geo:10.0088123,53.5424701
END:VEVENT
END:VCALENDAR